Workbook

Sheet Capa
A1: Contrato de Gestão
A2: nº14.2025
A3: Secretaria de Estado de Justiça e Segurança Pública - SEJUSP e Instituto Jurídico para Efetivação da Cidadania e Saúde - Avante Social
A5: 4º Relatório Gerencial Financeiro
A6: Período Avaliatório
A7: 45931
A8: a
A9: 46022
A12: Relatório Gerencial Financeiro | Belo Horizonte | Versão 4.1 | dezembro | 2024 |
A15: Termo de Parceria
A16: Contrato de Gestão
A17: =IF($A$1=$A$15,C17,B17) -> 1º Relatório Gerencial Financeiro | B17: 1º Relatório Gerencial Financeiro | C17: 1º Relatório Financeiro
A18: =IF($A$1=$A$15,C18,B18) -> 2º Relatório Gerencial Financeiro | B18: 2º Relatório Gerencial Financeiro | C18: 2º Relatório Financeiro
A19: =IF($A$1=$A$15,C19,B19) -> 3º Relatório Gerencial Financeiro | B19: 3º Relatório Gerencial Financeiro | C19: 3º Relatório Financeiro
A20: =IF($A$1=$A$15,C20,B20) -> 4º Relatório Gerencial Financeiro | B20: 4º Relatório Gerencial Financeiro | C20: 4º Relatório Financeiro
A21: =IF($A$1=$A$15,C21,B21) -> 5º Relatório Gerencial Financeiro | B21: 5º Relatório Gerencial Financeiro | C21: 5º Relatório Financeiro
A22: =IF($A$1=$A$15,C22,B22) -> 6º Relatório Gerencial Financeiro | B22: 6º Relatório Gerencial Financeiro | C22: 6º Relatório Financeiro
A23: =IF($A$1=$A$15,C23,B23) -> 7º Relatório Gerencial Financeiro | B23: 7º Relatório Gerencial Financeiro | C23: 7º Relatório Financeiro
A24: =IF($A$1=$A$15,C24,B24) -> 8º Relatório Gerencial Financeiro | B24: 8º Relatório Gerencial Financeiro | C24: 8º Relatório Financeiro
A25: =IF($A$1=$A$15,C25,B25) -> 9º Relatório Gerencial Financeiro | B25: 9º Relatório Gerencial Financeiro | C25: 9º Relatório Financeiro
A26: =IF($A$1=$A$15,C26,B26) -> 10º Relatório Gerencial Financeiro | B26: 10º Relatório Gerencial Financeiro | C26: 10º Relatório Financeiro
A27: =IF($A$1=$A$15,C27,B27) -> 11º Relatório Gerencial Financeiro | B27: 11º Relatório Gerencial Financeiro | C27: 11º Relatório Financeiro
A28: =IF($A$1=$A$15,C28,B28) -> 12º Relatório Gerencial Financeiro | B28: 12º Relatório Gerencial Financeiro | C28: 12º Relatório Financeiro
... A60: =IF($A$1=$A$15,C60,B60) -> 40º Relatório Gerencial Financeiro | B60: 40º Relatório Gerencial Financeiro | C60: 40º Relatório Financeiro
A61: =IF($A$1=$A$15,C61,B61) | B61: ="" | C61: Relatório Financeiro 2018
A62: =IF($A$1=$A$15,C62,B62) | B62: ="" | C62: Relatório Financeiro 2019
A63: =IF($A$1=$A$15,C63,B63) | B63: ="" | C63: Relatório Financeiro 2020
A64: =IF($A$1=$A$15,C64,B64) | B64: ="" | C64: Relatório Financeiro 2021
A65: =IF($A$1=$A$15,C65,B65) | B65: ="" | C65: Relatório Financeiro 2022
A66: =IF($A$1=$A$15,C66,B66) | B66: ="" | C66: Relatório Financeiro 2023
A67: =IF($A$1=$A$15,C67,B67) | B67: ="" | C67: Relatório Financeiro 2024
A70: =A1&" "&A2&" - "&A3 -> Contrato de Gestão nº14.2025 - Secretaria de Estado de Justiça e Segurança Pública - SEJUSP e Instituto Jurídico para Efetivação da Cidadania e Saúde - Avante Social

Sheet Resumo
A1: =Capa!A70 -> Contrato de Gestão nº14.2025 - Secretaria de Estado de Justiça e Segurança Pública - SEJUSP e Instituto Jurídico para Efetivação da Cidadania e Saúde - Avante Social
A2: =Capa!A5 -> 4º Relatório Gerencial Financeiro
A3: Tabela 1 - Resumo das Movimentações Financeiras no Período em Regime de Caixa
C4: =IF(Capa!A7="dd/mm/aaaa",DATEVALUE("01/01/2025"),DATE(YEAR(Capa!A7),1,1)) -> 45658 | D4: =EDATE(C4,1) -> 45689 | E4: =EDATE(D4,1) -> 45717 | F4: =EDATE(E4,1) -> 45748 | G4: =EDATE(F4,1) -> 45778 | H4: =EDATE(G4,1) -> 45809 | I4: =EDATE(H4,1) -> 45839 | J4: =EDATE(I4,1) -> 45870 | K4: =EDATE(J4,1) -> 45901 | ... N4: =EDATE(M4,1) -> 45992
A5: (T) | B5: Transporte de Saldo Financeiro Anterior | C5: 0 | D5: ='Analítico Cx.'!D5 -> 0 | E5: 0 | F5: ='Analítico Cx.'!F5 -> 351003.25 | G5: ='Analítico Cx.'!G5 -> 164831.54 | H5: ='Analítico Cx.'!H5 -> 354154.44 | I5: ='Analítico Cx.'!I5 -> 171480.88 | J5: ='Analítico Cx.'!J5 -> 635835.43 | K5: ='Analítico Cx.'!K5 -> 516097.34 | L5: ='Analítico Cx.'!L5 -> 355580.04 | M5: ='Analítico Cx.'!M5 -> 832176.97 | N5: ='Analítico Cx.'!N5 -> 654598.28
A7: (E) | B7: Total de Entradas de Recursos | C7: ='Analítico Cx.'!C15 -> 0 | D7: ='Analítico Cx.'!D15 -> 0 | E7: ='Analítico Cx.'!E15 -> 635758.8 | F7: ='Analítico Cx.'!F15 -> 247.8 | G7: ='Analítico Cx.'!G15 -> 275630.3 | H7: ='Analítico Cx.'!H15 -> 12228.49 | I7: ='Analítico Cx.'!I15 -> 635653.24 | J7: ='Analítico Cx.'!J15 -> 2609.68 | ... N7: ='Analítico Cx.'!N15 -> 1712062.2
A8: (S) | B8: Total de Saídas de Recursos | C8: ='Analítico Cx.'!C137 -> 0 | D8: ='Analítico Cx.'!D137 -> 0 | E8: ='Analítico Cx.'!E137 -> 284755.55 | F8: ='Analítico Cx.'!F137 -> 186419.51 | G8: ='Analítico Cx.'!G137 -> 86307.4 | H8: ='Analítico Cx.'!H137 -> 194902.05 | I8: ='Analítico Cx.'!I137 -> 171298.69 | J8: ='Analítico Cx.'!J137 -> 122347.77 | ... N8: ='Analítico Cx.'!N137 -> 171193.38
A10: (SF) | B10: Saldo Financeiro Apurado (T+E-S) | C10: =C5+C7-C8 -> 0 | D10: =D5+D7-D8 -> 0 | E10: =E5+E7-E8 -> 351003.25 | F10: =F5+F7-F8 -> 164831.54 | G10: =G5+G7-G8 -> 354154.44 | H10: =H5+H7-H8 -> 171480.88 | I10: =I5+I7-I8 -> 635835.43 | J10: =J5+J7-J8 -> 516097.34 | ... N10: =N5+N7-N8 -> 2195467.1
B13: Distribuição Gerencial dos Recursos | F13: Composição do Saldo Financeiro (SF) | K13: Movimentação da Reserva de Recursos
A14: (PP) | B14: Provisonamentos de Pessoal | D14: ='Prov. Pessoal'!N36 -> 74844.408 | F14: Saldo Extrato C/C | I14: 0 | K14: Transporte de Saldo | N14: 0
A15: (C) | B15: Recursos Comprometidos | D15: =SUM('Comp.'!E5:E464) -> 94047.34 | F15: Saldo Extrato CI 1 | I15: 2195467.1 | K15: Transferência para Reserva | N15: =SUMPRODUCT(-(Reserva!$C$4:$C$1005=Resumo!$K15),-(Reserva!$D$4:$D$1005)) -> 8714.85
A16: (AR) | B16: Adiantamento de Recursos de Repasse Anterior: | F16: Saldo Extrato CI 2 | K16: Rendimentos Fin da Reserva | N16: =SUMPRODUCT(-(Reserva!$C$4:$C$1005=Resumo!$K16),-(Reserva!$D$4:$D$1005)) -> 28.77
A17: (SR) | B17: Saldo Remanescente (SF-PP-C-AR) | D17: =N10-D14-D15-D16 -> 2026575.4 | F17: Saldo Fundo Fixo | K17: Gastos da Reserva | N17: =SUMPRODUCT(-(Reserva!$C$4:$C$1005=Resumo!$K17),-(Reserva!$D$4:$D$1005)) -> 3434.16
A18: (SF) | B18: Saldo Financeiro (Somatório) | D18: =SUM(D14:D17) -> 2195467.1 | E18: (SF) | F18: ( = ) Saldo Financeiro | I18: =SUM(I14:I17) -> 2195467.1 | K18: Saldo | N18: =N14+N15+N16-N17 -> 5309.46
E20: (G) | F20: CONFERENCIA (Saldo Existente - Apurado) | I20: =I18-D18 -> 0

Sheet Comparativo
A1: =Capa!A70 -> Contrato de Gestão nº14.2025 - Secretaria de Estado de Justiça e Segurança Pública - SEJUSP e Instituto Jurídico para Efetivação da Cidadania e Saúde - Avante Social
A2: =Capa!A5 -> 4º Relatório Gerencial Financeiro
A3: Tabela 2 - Comparativo entre Receitas e Gastos Previstos e Realizados no Período em Regime de Competência
C4: =Resumo!C4 -> 45658 | D4: =Resumo!D4 -> 45689 | E4: =Resumo!E4 -> 45717 | F4: =Resumo!F4 -> 45748 | G4: =Resumo!G4 -> 45778 | H4: =Resumo!H4 -> 45809 | I4: =Resumo!I4 -> 45839 | J4: =Resumo!J4 -> 45870 | ... N4: =Resumo!N4 -> 45992 | O4: TOTAL
C5: Previsto
A6: 1 | B6: Entrada de Recursos
A7: 1.1 | B7: Repasses | C7: 0 | D7: 0 | E7: 635610.12 | F7: 0 | G7: 0 | H7: 0 | I7: 624624.33 | J7: 0 | K7: 0 | L7: 624624.33 | M7: 804910.23 | N7: 900000 | O7: =SUM(C7:N7) -> 3589769
A8: 1.2 | B8: Rendimentos Fin. | C8: 0 | D8: 0 | E8: 0 | F8: 0 | G8: 0 | H8: 0 | I8: 0 | J8: 0 | K8: 0 | L8: 0 | M8: 0 | N8: 0 | O8: =SUM(C8:N8) -> 0
A9: 1.3 | B9: Receitas Arrecadadas
A10: 1.3.1 | B10: Receitas Arrecadadas Previstas | C10: 0 | D10: 0 | E10: 0 | F10: 0 | G10: 0 | H10: 0 | I10: 0 | J10: 0 | K10: 0 | L10: 0 | M10: 0 | N10: 0 | O10: =SUM(C10:N10) -> 0
A11: 1.3.2 | B11: Rendimentos Fin. c/ Destinação Específica | C11: 0 | D11: 0 | E11: 0 | F11: 0 | G11: 0 | H11: 0 | I11: 0 | J11: 0 | K11: 0 | L11: 0 | M11: 0 | N11: 0 | O11: =SUM(C11:N11) -> 0
A12: 1.3.3 | B12: Outras Receitas | C12: 0 | D12: 0 | E12: 0 | F12: 0 | G12: 0 | H12: 0 | I12: 0 | J12: 0 | K12: 0 | L12: 0 | M12: 0 | N12: 0 | O12: =SUM(C12:N12) -> 0
A13: Subtotal Receitas: | C13: =SUBTOTAL(9,C9:C12) -> 0 | D13: =SUBTOTAL(9,D9:D12) -> 0 | E13: =SUBTOTAL(9,E9:E12) -> 0 | F13: =SUBTOTAL(9,F9:F12) -> 0 | G13: =SUBTOTAL(9,G9:G12) -> 0 | H13: =SUBTOTAL(9,H9:H12) -> 0 | I13: =SUBTOTAL(9,I9:I12) -> 0 | J13: =SUBTOTAL(9,J9:J12) -> 0 | ... N13: =SUBTOTAL(9,N9:N12) -> 0 | O13: =SUM(C13:N13) -> 0
A14: (E) Total de Entradas: | C14: =SUBTOTAL(9,C7:C13) -> 0 | D14: =SUBTOTAL(9,D7:D13) -> 0 | E14: =SUBTOTAL(9,E7:E13) -> 635610.12 | F14: =SUBTOTAL(9,F7:F13) -> 0 | G14: =SUBTOTAL(9,G7:G13) -> 0 | H14: =SUBTOTAL(9,H7:H13) -> 0 | I14: =SUBTOTAL(9,I7:I13) -> 624624.33 | J14: =SUBTOTAL(9,J7:J13) -> 0 | ... N14: =SUBTOTAL(9,N7:N13) -> 900000 | O14: =SUM(C14:N14) -> 3589769
A16: 2 | B16: Saída de Recursos
A17: 2.1 | B17: Gastos com Pessoal
A18: 2.1.1 | B18: Salários | C18: 0 | D18: 0 | E18: 94625.75 | F18: 94625.75 | G18: 94625.75 | H18: 94625.75 | I18: 94625.74 | J18: 94625.74 | K18: 94625.74 | L18: 94625.74 | M18: 94625.74 | N18: 94625.74 | O18: =SUM(C18:N18) -> 946257.44
A19: 2.1.2 | B19: Estagiários | C19: 0 | D19: 0 | E19: 4250.4 | F19: 4250.4 | G19: 4250.4 | H19: 4250.4 | I19: 3080 | J19: 3080 | K19: 3080 | L19: 3080 | M19: 3080 | N19: 3080 | O19: =SUM(C19:N19) -> 35481.6
A20: 2.1.3 | B20: Encargos | C20: 0 | D20: 0 | E20: 41267.37 | F20: 41267.37 | G20: 41267.37 | H20: 41267.37 | I20: 41267.37 | J20: 41267.37 | K20: 41267.37 | L20: 41267.37 | M20: 41267.37 | N20: 41267.37 | O20: =SUM(C20:N20) -> 412673.7
A21: 2.1.4 | B21: Benefícios | C21: 0 | D21: 0 | E21: 7373.63 | F21: 7373.63 | G21: 7373.63 | H21: 7373 | I21: 8544 | J21: 8544 | K21: 8544 | L21: 8544 | M21: 8544 | N21: 8544 | O21: =SUM(C21:N21) -> 80757.89
A22: Subtotal (Pessoal): | C22: =SUM(C18:C21) -> 0 | D22: =SUM(D18:D21) -> 0 | E22: =SUM(E18:E21) -> 147517.15 | F22: =SUM(F18:F21) -> 147517.15 | G22: =SUM(G18:G21) -> 147517.15 | H22: =SUM(H18:H21) -> 147516.52 | I22: =SUM(I18:I21) -> 147517.11 | J22: =SUM(J18:J21) -> 147517.11 | ... N22: =SUM(N18:N21) -> 147517.11 | O22: =SUM(C22:N22) -> 1475170.6
A23: 2.2 | B23: Gastos Gerais | C23: 0 | D23: 0 | E23: 60690.96 | F23: 60690.96 | G23: 60690.96 | H23: 60690.96 | I23: 60690.96 | J23: 60690.96 | K23: 60690.96 | L23: 60690.96 | M23: 60690.96 | N23: 60690.96 | O23: =SUM(C23:N23) -> 606909.6
A24: 2.3 | B24: Aquisição de Bens Permanentes | C24: 0 | D24: 0 | E24: 219193.9 | F24: 0 | G24: 0 | H24: 0 | I24: 0 | J24: 0 | K24: 0 | L24: 0 | M24: 0 | N24: 0 | O24: =SUM(C24:N24) -> 219193.9
A25: 2.4 | B25: Transferência para Reserva | C25: 0 | D25: 0 | E25: 0 | F25: 0 | G25: 0 | H25: 0 | I25: 0 | J25: 0 | K25: 0 | L25: 0 | M25: 0 | N25: 0 | O25: =SUM(C25:N25) -> 0
A26: (S) Total de Saídas: | C26: =SUM(C22:C25) -> 0 | D26: =SUM(D22:D25) -> 0 | E26: =SUM(E22:E25) -> 427402.01 | F26: =SUM(F22:F25) -> 208208.11 | G26: =SUM(G22:G25) -> 208208.11 | H26: =SUM(H22:H25) -> 208207.48 | I26: =SUM(I22:I25) -> 208208.07 | J26: =SUM(J22:J25) -> 208208.07 | ... N26: =SUM(N22:N25) -> 208208.07 | O26: =SUM(C26:N26) -> 2301274.1
C28: =Resumo!C4 -> 45658 | D28: =Resumo!D4 -> 45689 | E28: =Resumo!E4 -> 45717 | F28: =Resumo!F4 -> 45748 | G28: =Resumo!G4 -> 45778 | H28: =Resumo!H4 -> 45809 | I28: =Resumo!I4 -> 45839 | J28: =Resumo!J4 -> 45870 | ... N28: =Resumo!N4 -> 45992 | O28: TOTAL
C29: Realizado
A30: 1 | B30: Entrada de Recursos | Q30: Realizado (/) Previsto | R30: Previsto (-) Realizado
A31: 1.1 | B31: Repasses | C31: ='Analítico Cp.'!C6 -> 0 | D31: ='Analítico Cp.'!D6 -> 635610.12 | E31: ='Analítico Cp.'!E6 -> 0 | F31: ='Analítico Cp.'!F6 -> 624624.33 | G31: ='Analítico Cp.'!G6 -> 0 | H31: ='Analítico Cp.'!H6 -> 0 | I31: ='Analítico Cp.'!I6 -> 0 | J31: ='Analítico Cp.'!J6 -> 0 | ... N31: ='Analítico Cp.'!N6 -> 1704910.2 | O31: =SUM(C31:N31) -> 3589769 | Q31: =IF(O7=0,"-",O31/O7) -> 1 | R31: =O7-O31 -> -0.0030345018
A32: 1.2 | B32: Rendimentos Fin. | C32: ='Analítico Cp.'!C7 -> 0 | D32: ='Analítico Cp.'!D7 -> 0 | E32: ='Analítico Cp.'!E7 -> 148.68 | F32: ='Analítico Cp.'!F7 -> 247.8 | G32: ='Analítico Cp.'!G7 -> 551.67 | H32: ='Analítico Cp.'!H7 -> 131.23 | I32: ='Analítico Cp.'!I7 -> 458.48 | J32: ='Analítico Cp.'!J7 -> 596.22 | ... N32: ='Analítico Cp.'!N7 -> 3113.87 | O32: =SUM(C32:N32) -> 8642.43 | Q32: =IF(O8=0,"-",O32/O8) -> - | R32: =O8-O32 -> -8642.43
A33: 1.3 | B33: Receitas Arrecadadas
A34: 1.3.1 | B34: Receitas Arrecadadas Previstas | C34: ='Analítico Cp.'!C9 -> 0 | D34: ='Analítico Cp.'!D9 -> 0 | E34: ='Analítico Cp.'!E9 -> 0 | F34: ='Analítico Cp.'!F9 -> 0 | G34: ='Analítico Cp.'!G9 -> 0 | H34: ='Analítico Cp.'!H9 -> 0 | I34: ='Analítico Cp.'!I9 -> 0 | J34: ='Analítico Cp.'!J9 -> 0 | ... N34: ='Analítico Cp.'!N9 -> 0 | O34: =SUM(C34:N34) -> 0 | Q34: =IF(O10=0,"-",O34/O10) -> - | R34: =O10-O34 -> 0
A35: 1.3.2 | B35: Rendimentos Fin. c/ Destinação Específica | C35: ='Analítico Cp.'!C10 -> 0 | D35: ='Analítico Cp.'!D10 -> 0 | E35: ='Analítico Cp.'!E10 -> 0 | F35: ='Analítico Cp.'!F10 -> 0 | G35: ='Analítico Cp.'!G10 -> 0 | H35: ='Analítico Cp.'!H10 -> 0 | I35: ='Analítico Cp.'!I10 -> 0 | J35: ='Analítico Cp.'!J10 -> 0 | ... N35: ='Analítico Cp.'!N10 -> 0 | O35: =SUM(C35:N35) -> 0 | Q35: =IF(O11=0,"-",O35/O11) -> - | R35: =O11-O35 -> 0
A36: 1.3.3 | B36: Outras Receitas | C36: ='Analítico Cp.'!C11 -> 0 | D36: ='Analítico Cp.'!D11 -> 0 | E36: ='Analítico Cp.'!E11 -> 0 | F36: ='Analítico Cp.'!F11 -> 0 | G36: ='Analítico Cp.'!G11 -> 275078.63 | H36: ='Analítico Cp.'!H11 -> 12097.26 | I36: ='Analítico Cp.'!I11 -> 11059.68 | J36: ='Analítico Cp.'!J11 -> 2013.46 | ... N36: ='Analítico Cp.'!N11 -> 4038.13 | O36: =SUM(C36:N36) -> 307423.79 | Q36: =IF(O12=0,"-",O36/O12) -> - | R36: =O12-O36 -> -307423.79
A37: Subtotal Receitas: | C37: =SUBTOTAL(9,C33:C36) -> 0 | D37: =SUBTOTAL(9,D33:D36) -> 0 | E37: =SUBTOTAL(9,E33:E36) -> 0 | F37: =SUBTOTAL(9,F33:F36) -> 0 | G37: =SUBTOTAL(9,G33:G36) -> 275078.63 | H37: =SUBTOTAL(9,H33:H36) -> 12097.26 | I37: =SUBTOTAL(9,I33:I36) -> 11059.68 | J37: =SUBTOTAL(9,J33:J36) -> 2013.46 | ... N37: =SUBTOTAL(9,N33:N36) -> 4038.13 | O37: =SUM(C37:N37) -> 307423.79 | Q37: =IF(O13=0,"-",O37/O13) -> - | R37: =O13-O37 -> -307423.79
A38: (E) Total de Entradas: | C38: =SUBTOTAL(9,C31:C37) -> 0 | D38: =SUBTOTAL(9,D31:D37) -> 635610.12 | E38: =SUBTOTAL(9,E31:E37) -> 148.68 | F38: =SUBTOTAL(9,F31:F37) -> 624872.13 | G38: =SUBTOTAL(9,G31:G37) -> 275630.3 | H38: =SUBTOTAL(9,H31:H37) -> 12228.49 | I38: =SUBTOTAL(9,I31:I37) -> 11518.16 | J38: =SUBTOTAL(9,J31:J37) -> 2609.68 | ... N38: =SUBTOTAL(9,N31:N37) -> 1712062.2 | O38: =SUM(C38:N38) -> 3905835.2 | Q38: =IF(O14=0,"-",O38/O14) -> 1.0880464 | R38: =O14-O38 -> -316066.22
A40: 2 | B40: Saída de Recursos | Q40: =Q30 -> Realizado (/) Previsto | R40: =R30 -> Previsto (-) Realizado
A41: 2.1 | B41: Gastos com Pessoal
A42: 2.1.1 | B42: Salários | C42: ='Analítico Cp.'!C26 -> 0 | D42: ='Analítico Cp.'!D26 -> 0 | E42: ='Analítico Cp.'!E26 -> 5414.91 | F42: ='Analítico Cp.'!F26 -> 53472.23 | G42: ='Analítico Cp.'!G26 -> 76361.6 | H42: ='Analítico Cp.'!H26 -> 78754.8 | I42: ='Analítico Cp.'!I26 -> 75153.24 | J42: ='Analítico Cp.'!J26 -> 85532.34 | ... N42: ='Analítico Cp.'!N26 -> 83294.35 | O42: =SUM(C42:N42) -> 714349.32 | Q42: =IF(O18=0,"-",O42/O18) -> 0.75492069 | R42: =O18-O42 -> 231908.12
A43: 2.1.2 | B43: Estagiários | C43: ='Analítico Cp.'!C30 -> 0 | D43: ='Analítico Cp.'!D30 -> 0 | E43: ='Analítico Cp.'!E30 -> 1527.8 | F43: ='Analítico Cp.'!F30 -> 0 | G43: ='Analítico Cp.'!G30 -> 362.25 | H43: ='Analítico Cp.'!H30 -> 379.5 | I43: ='Analítico Cp.'!I30 -> 0 | J43: ='Analítico Cp.'!J30 -> 0 | ... N43: ='Analítico Cp.'!N30 -> 0 | O43: =SUM(C43:N43) -> 2269.55 | Q43: =IF(O19=0,"-",O43/O19) -> 0.063964139 | R43: =O19-O43 -> 33212.05
...

Sheet Analítico Cx.
A1: =Capa!A70 -> Contrato de Gestão nº14.2025 - Secretaria de Estado de Justiça e Segurança Pública - SEJUSP e Instituto Jurídico para Efetivação da Cidadania e Saúde - Avante Social
A2: =Capa!A5 -> 4º Relatório Gerencial Financeiro
A3: Tabela 4 - Demonstrativo Analítico das Receitas e Gastos Mensais em Regime de Caixa
C4: =Resumo!C4 -> 45658 | D4: =Resumo!D4 -> 45689 | E4: =Resumo!E4 -> 45717 | F4: =Resumo!F4 -> 45748 | G4: =Resumo!G4 -> 45778 | H4: =Resumo!H4 -> 45809 | I4: =Resumo!I4 -> 45839 | J4: =Resumo!J4 -> 45870 | ... N4: =Resumo!N4 -> 45992 | O4: Total | P4: % do Total
A5: T | B5: Transporte de Saldo Acumulado (SA) | C5: =Resumo!C5 -> 0 | D5: =C5+C15-C137 -> 0 | E5: =D5+D15-D137 -> 0 | F5: =E5+E15-E137 -> 351003.25 | G5: =F5+F15-F137 -> 164831.54 | H5: =G5+G15-G137 -> 354154.44 | I5: =H5+H15-H137 -> 171480.88 | J5: =I5+I15-I137 -> 635835.43 | K5: =J5+J15-J137 -> 516097.34 | ... N5: =M5+M15-M137 -> 654598.28
A7: 1 | B7: Entrada de Recursos
A8: 1.1 | B8: Repasses | C8: =SUMPRODUCT((Diário!$E$4:$E$5010='Analítico Cx.'!$B8)*(Diário!$B$4:$B$5010>=C$4)*(Diário!$B$4:$B$5010<=EOMONTH(C$4,0))*(Diário!$F$4:$F$5010)) -> 0 | D8: =SUMPRODUCT((Diário!$E$4:$E$5010='Analítico Cx.'!$B8)*(Diário!$B$4:$B$5010>=D$4)*(Diário!$B$4:$B$5010<=EOMONTH(D$4,0))*(Diário!$F$4:$F$5010)) -> 0 | E8: =SUMPRODUCT((Diário!$E$4:$E$5010='Analítico Cx.'!$B8)*(Diário!$B$4:$B$5010>=E$4)*(Diário!$B$4:$B$5010<=EOMONTH(E$4,0))*(Diário!$F$4:$F$5010)) -> 635610.12 | F8: =SUMPRODUCT((Diário!$E$4:$E$5010='Analítico Cx.'!$B8)*(Diário!$B$4:$B$5010>=F$4)*(Diário!$B$4:$B$5010<=EOMONTH(F$4,0))*(Diário!$F$4:$F$5010)) -> 0 | G8: =SUMPRODUCT((Diário!$E$4:$E$5010='Analítico Cx.'!$B8)*(Diário!$B$4:$B$5010>=G$4)*(Diário!$B$4:$B$5010<=EOMONTH(G$4,0))*(Diário!$F$4:$F$5010)) -> 0 | H8: =SUMPRODUCT((Diário!$E$4:$E$5010='Analítico Cx.'!$B8)*(Diário!$B$4:$B$5010>=H$4)*(Diário!$B$4:$B$5010<=EOMONTH(H$4,0))*(Diário!$F$4:$F$5010)) -> 0 | I8: =SUMPRODUCT((Diário!$E$4:$E$5010='Analítico Cx.'!$B8)*(Diário!$B$4:$B$5010>=I$4)*(Diário!$B$4:$B$5010<=EOMONTH(I$4,0))*(Diário!$F$4:$F$5010)) -> 624624.33 | J8: =SUMPRODUCT((Diário!$E$4:$E$5010='Analítico Cx.'!$B8)*(Diário!$B$4:$B$5010>=J$4)*(Diário!$B$4:$B$5010<=EOMONTH(J$4,0))*(Diário!$F$4:$F$5010)) -> 0 | ... N8: =SUMPRODUCT((Diário!$E$4:$E$5010='Analítico Cx.'!$B8)*(Diário!$B$4:$B$5010>=N$4)*(Diário!$B$4:$B$5010<=EOMONTH(N$4,0))*(Diário!$F$4:$F$5010)) -> 1704910.2 | O8: =SUM(C8:N8) -> 3589769 | P8: =IF($O$15=0,0,O8/$O$15) -> 0.91907846
A9: 1.2 | B9: Rendimentos Fin. | C9: =SUMPRODUCT((Diário!$E$4:$E$5010='Analítico Cx.'!$B9)*(Diário!$B$4:$B$5010>=C$4)*(Diário!$B$4:$B$5010<=EOMONTH(C$4,0))*(Diário!$F$4:$F$5010)) -> 0 | D9: =SUMPRODUCT((Diário!$E$4:$E$5010='Analítico Cx.'!$B9)*(Diário!$B$4:$B$5010>=D$4)*(Diário!$B$4:$B$5010<=EOMONTH(D$4,0))*(Diário!$F$4:$F$5010)) -> 0 | E9: =SUMPRODUCT((Diário!$E$4:$E$5010='Analítico Cx.'!$B9)*(Diário!$B$4:$B$5010>=E$4)*(Diário!$B$4:$B$5010<=EOMONTH(E$4,0))*(Diário!$F$4:$F$5010)) -> 148.68 | F9: =SUMPRODUCT((Diário!$E$4:$E$5010='Analítico Cx.'!$B9)*(Diário!$B$4:$B$5010>=F$4)*(Diário!$B$4:$B$5010<=EOMONTH(F$4,0))*(Diário!$F$4:$F$5010)) -> 247.8 | G9: =SUMPRODUCT((Diário!$E$4:$E$5010='Analítico Cx.'!$B9)*(Diário!$B$4:$B$5010>=G$4)*(Diário!$B$4:$B$5010<=EOMONTH(G$4,0))*(Diário!$F$4:$F$5010)) -> 551.67 | H9: =SUMPRODUCT((Diário!$E$4:$E$5010='Analítico Cx.'!$B9)*(Diário!$B$4:$B$5010>=H$4)*(Diário!$B$4:$B$5010<=EOMONTH(H$4,0))*(Diário!$F$4:$F$5010)) -> 131.23 | I9: =SUMPRODUCT((Diário!$E$4:$E$5010='Analítico Cx.'!$B9)*(Diário!$B$4:$B$5010>=I$4)*(Diário!$B$4:$B$5010<=EOMONTH(I$4,0))*(Diário!$F$4:$F$5010)) -> 458.48 | J9: =SUMPRODUCT((Diário!$E$4:$E$5010='Analítico Cx.'!$B9)*(Diário!$B$4:$B$5010>=J$4)*(Diário!$B$4:$B$5010<=EOMONTH(J$4,0))*(Diário!$F$4:$F$5010)) -> 596.22 | ... N9: =SUMPRODUCT((Diário!$E$4:$E$5010='Analítico Cx.'!$B9)*(Diário!$B$4:$B$5010>=N$4)*(Diário!$B$4:$B$5010<=EOMONTH(N$4,0))*(Diário!$F$4:$F$5010)) -> 3113.87 | O9: =SUM(C9:N9) -> 8642.43 | P9: =IF($O$15=0,0,O9/$O$15) -> 0.002212697
A10: 1.3 | B10: Receitas Arrecadadas
A11: 1.3.1 | B11: Receitas Arrecadadas Previstas | C11: =SUMPRODUCT((Diário!$E$4:$E$5010='Analítico Cx.'!$B11)*(Diário!$B$4:$B$5010>=C$4)*(Diário!$B$4:$B$5010<=EOMONTH(C$4,0))*(Diário!$F$4:$F$5010)) -> 0 | D11: =SUMPRODUCT((Diário!$E$4:$E$5010='Analítico Cx.'!$B11)*(Diário!$B$4:$B$5010>=D$4)*(Diário!$B$4:$B$5010<=EOMONTH(D$4,0))*(Diário!$F$4:$F$5010)) -> 0 | E11: =SUMPRODUCT((Diário!$E$4:$E$5010='Analítico Cx.'!$B11)*(Diário!$B$4:$B$5010>=E$4)*(Diário!$B$4:$B$5010<=EOMONTH(E$4,0))*(Diário!$F$4:$F$5010)) -> 0 | F11: =SUMPRODUCT((Diário!$E$4:$E$5010='Analítico Cx.'!$B11)*(Diário!$B$4:$B$5010>=F$4)*(Diário!$B$4:$B$5010<=EOMONTH(F$4,0))*(Diário!$F$4:$F$5010)) -> 0 | G11: =SUMPRODUCT((Diário!$E$4:$E$5010='Analítico Cx.'!$B11)*(Diário!$B$4:$B$5010>=G$4)*(Diário!$B$4:$B$5010<=EOMONTH(G$4,0))*(Diário!$F$4:$F$5010)) -> 0 | H11: =SUMPRODUCT((Diário!$E$4:$E$5010='Analítico Cx.'!$B11)*(Diário!$B$4:$B$5010>=H$4)*(Diário!$B$4:$B$5010<=EOMONTH(H$4,0))*(Diário!$F$4:$F$5010)) -> 0 | I11: =SUMPRODUCT((Diário!$E$4:$E$5010='Analítico Cx.'!$B11)*(Diário!$B$4:$B$5010>=I$4)*(Diário!$B$4:$B$5010<=EOMONTH(I$4,0))*(Diário!$F$4:$F$5010)) -> 0 | J11: =SUMPRODUCT((Diário!$E$4:$E$5010='Analítico Cx.'!$B11)*(Diário!$B$4:$B$5010>=J$4)*(Diário!$B$4:$B$5010<=EOMONTH(J$4,0))*(Diário!$F$4:$F$5010)) -> 0 | ... N11: =SUMPRODUCT((Diário!$E$4:$E$5010='Analítico Cx.'!$B11)*(Diário!$B$4:$B$5010>=N$4)*(Diário!$B$4:$B$5010<=EOMONTH(N$4,0))*(Diário!$F$4:$F$5010)) -> 0 | O11: =SUM(C11:N11) -> 0 | P11: =IF($O$15=0,0,O11/$O$15) -> 0
A12: 1.3.2 | B12: Rendimentos Fin. c/ Destinação Específica | C12: =SUMPRODUCT((Diário!$E$4:$E$5010='Analítico Cx.'!$B12)*(Diário!$B$4:$B$5010>=C$4)*(Diário!$B$4:$B$5010<=EOMONTH(C$4,0))*(Diário!$F$4:$F$5010)) -> 0 | D12: =SUMPRODUCT((Diário!$E$4:$E$5010='Analítico Cx.'!$B12)*(Diário!$B$4:$B$5010>=D$4)*(Diário!$B$4:$B$5010<=EOMONTH(D$4,0))*(Diário!$F$4:$F$5010)) -> 0 | E12: =SUMPRODUCT((Diário!$E$4:$E$5010='Analítico Cx.'!$B12)*(Diário!$B$4:$B$5010>=E$4)*(Diário!$B$4:$B$5010<=EOMONTH(E$4,0))*(Diário!$F$4:$F$5010)) -> 0 | F12: =SUMPRODUCT((Diário!$E$4:$E$5010='Analítico Cx.'!$B12)*(Diário!$B$4:$B$5010>=F$4)*(Diário!$B$4:$B$5010<=EOMONTH(F$4,0))*(Diário!$F$4:$F$5010)) -> 0 | G12: =SUMPRODUCT((Diário!$E$4:$E$5010='Analítico Cx.'!$B12)*(Diário!$B$4:$B$5010>=G$4)*(Diário!$B$4:$B$5010<=EOMONTH(G$4,0))*(Diário!$F$4:$F$5010)) -> 0 | H12: =SUMPRODUCT((Diário!$E$4:$E$5010='Analítico Cx.'!$B12)*(Diário!$B$4:$B$5010>=H$4)*(Diário!$B$4:$B$5010<=EOMONTH(H$4,0))*(Diário!$F$4:$F$5010)) -> 0 | I12: =SUMPRODUCT((Diário!$E$4:$E$5010='Analítico Cx.'!$B12)*(Diário!$B$4:$B$5010>=I$4)*(Diário!$B$4:$B$5010<=EOMONTH(I$4,0))*(Diário!$F$4:$F$5010)) -> 0 | J12: =SUMPRODUCT((Diário!$E$4:$E$5010='Analítico Cx.'!$B12)*(Diário!$B$4:$B$5010>=J$4)*(Diário!$B$4:$B$5010<=EOMONTH(J$4,0))*(Diário!$F$4:$F$5010)) -> 0 | ... N12: =SUMPRODUCT((Diário!$E$4:$E$5010='Analítico Cx.'!$B12)*(Diário!$B$4:$B$5010>=N$4)*(Diário!$B$4:$B$5010<=EOMONTH(N$4,0))*(Diário!$F$4:$F$5010)) -> 0 | O12: =SUM(C12:N12) -> 0 | P12: =IF($O$15=0,0,O12/$O$15) -> 0
A13: 1.3.3 | B13: Outras Receitas | C13: =SUMPRODUCT((Diário!$E$4:$E$5010='Analítico Cx.'!$B13)*(Diário!$B$4:$B$5010>=C$4)*(Diário!$B$4:$B$5010<=EOMONTH(C$4,0))*(Diário!$F$4:$F$5010)) -> 0 | D13: =SUMPRODUCT((Diário!$E$4:$E$5010='Analítico Cx.'!$B13)*(Diário!$B$4:$B$5010>=D$4)*(Diário!$B$4:$B$5010<=EOMONTH(D$4,0))*(Diário!$F$4:$F$5010)) -> 0 | E13: =SUMPRODUCT((Diário!$E$4:$E$5010='Analítico Cx.'!$B13)*(Diário!$B$4:$B$5010>=E$4)*(Diário!$B$4:$B$5010<=EOMONTH(E$4,0))*(Diário!$F$4:$F$5010)) -> 0 | F13: =SUMPRODUCT((Diário!$E$4:$E$5010='Analítico Cx.'!$B13)*(Diário!$B$4:$B$5010>=F$4)*(Diário!$B$4:$B$5010<=EOMONTH(F$4,0))*(Diário!$F$4:$F$5010)) -> 0 | G13: =SUMPRODUCT((Diário!$E$4:$E$5010='Analítico Cx.'!$B13)*(Diário!$B$4:$B$5010>=G$4)*(Diário!$B$4:$B$5010<=EOMONTH(G$4,0))*(Diário!$F$4:$F$5010)) -> 275078.63 | H13: =SUMPRODUCT((Diário!$E$4:$E$5010='Analítico Cx.'!$B13)*(Diário!$B$4:$B$5010>=H$4)*(Diário!$B$4:$B$5010<=EOMONTH(H$4,0))*(Diário!$F$4:$F$5010)) -> 12097.26 | I13: =SUMPRODUCT((Diário!$E$4:$E$5010='Analítico Cx.'!$B13)*(Diário!$B$4:$B$5010>=I$4)*(Diário!$B$4:$B$5010<=EOMONTH(I$4,0))*(Diário!$F$4:$F$5010)) -> 10570.43 | J13: =SUMPRODUCT((Diário!$E$4:$E$5010='Analítico Cx.'!$B13)*(Diário!$B$4:$B$5010>=J$4)*(Diário!$B$4:$B$5010<=EOMONTH(J$4,0))*(Diário!$F$4:$F$5010)) -> 2013.46 | ... N13: =SUMPRODUCT((Diário!$E$4:$E$5010='Analítico Cx.'!$B13)*(Diário!$B$4:$B$5010>=N$4)*(Diário!$B$4:$B$5010<=EOMONTH(N$4,0))*(Diário!$F$4:$F$5010)) -> 4038.13 | O13: =SUM(C13:N13) -> 307423.79 | P13: =IF($O$15=0,0,O13/$O$15) -> 0.078708848
B14: Subtotal Receitas: | C14: =SUBTOTAL(109,C11:C13) -> 0 | D14: =SUBTOTAL(109,D11:D13) -> 0 | E14: =SUBTOTAL(109,E11:E13) -> 0 | F14: =SUBTOTAL(109,F11:F13) -> 0 | G14: =SUBTOTAL(109,G11:G13) -> 275078.63 | H14: =SUBTOTAL(109,H11:H13) -> 12097.26 | I14: =SUBTOTAL(109,I11:I13) -> 10570.43 | J14: =SUBTOTAL(109,J11:J13) -> 2013.46 | ... O14: =SUBTOTAL(109,O11:O13) -> 307423.79 | P14: =IF($O$15=0,0,O14/$O$15) -> 0.078708848
A15: (E) Total de Entradas | C15: =SUBTOTAL(109,C8:C13) -> 0 | D15: =SUBTOTAL(109,D8:D13) -> 0 | E15: =SUBTOTAL(109,E8:E13) -> 635758.8 | F15: =SUBTOTAL(109,F8:F13) -> 247.8 | G15: =SUBTOTAL(109,G8:G13) -> 275630.3 | H15: =SUBTOTAL(109,H8:H13) -> 12228.49 | I15: =SUBTOTAL(109,I8:I13) -> 635653.24 | J15: =SUBTOTAL(109,J8:J13) -> 2609.68 | ... O15: =SUBTOTAL(109,O8:O13) -> 3905835.2 | P15: =IF($O$15=0,0,O15/$O$15) -> 1
A17: 2 | B17: Saída de Recursos
A18: 2.1 | B18: Gastos com Pessoal
A19: 2.1.1 | B19: Salários e Remunerações
A20: 2.1.1.1 | B20: Salários | C20: =SUMPRODUCT((Diário!$E$4:$E$5010='Analítico Cx.'!$B20)*(Diário!$B$4:$B$5010>=C$4)*(Diário!$B$4:$B$5010<=EOMONTH(C$4,0))*(Diário!$F$4:$F$5010)) -> 0 | D20: =SUMPRODUCT((Diário!$E$4:$E$5010='Analítico Cx.'!$B20)*(Diário!$B$4:$B$5010>=D$4)*(Diário!$B$4:$B$5010<=EOMONTH(D$4,0))*(Diário!$F$4:$F$5010)) -> 0 | E20: =SUMPRODUCT((Diário!$E$4:$E$5010='Analítico Cx.'!$B20)*(Diário!$B$4:$B$5010>=E$4)*(Diário!$B$4:$B$5010<=EOMONTH(E$4,0))*(Diário!$F$4:$F$5010)) -> 0 | F20: =SUMPRODUCT((Diário!$E$4:$E$5010='Analítico Cx.'!$B20)*(Diário!$B$4:$B$5010>=F$4)*(Diário!$B$4:$B$5010<=EOMONTH(F$4,0))*(Diário!$F$4:$F$5010)) -> 5887.08 | G20: =SUMPRODUCT((Diário!$E$4:$E$5010='Analítico Cx.'!$B20)*(Diário!$B$4:$B$5010>=G$4)*(Diário!$B$4:$B$5010<=EOMONTH(G$4,0))*(Diário!$F$4:$F$5010)) -> 58737.99 | H20: =SUMPRODUCT((Diário!$E$4:$E$5010='Analítico Cx.'!$B20)*(Diário!$B$4:$B$5010>=H$4)*(Diário!$B$4:$B$5010<=EOMONTH(H$4,0))*(Diário!$F$4:$F$5010)) -> 78962.98 | I20: =SUMPRODUCT((Diário!$E$4:$E$5010='Analítico Cx.'!$B20)*(Diário!$B$4:$B$5010>=I$4)*(Diário!$B$4:$B$5010<=EOMONTH(I$4,0))*(Diário!$F$4:$F$5010)) -> 79553.85 | J20: =SUMPRODUCT((Diário!$E$4:$E$5010='Analítico Cx.'!$B20)*(Diário!$B$4:$B$5010>=J$4)*(Diário!$B$4:$B$5010<=EOMONTH(J$4,0))*(Diário!$F$4:$F$5010)) -> 74500.97 | ... N20: =SUMPRODUCT((Diário!$E$4:$E$5010='Analítico Cx.'!$B20)*(Diário!$B$4:$B$5010>=N$4)*(Diário!$B$4:$B$5010<=EOMONTH(N$4,0))*(Diário!$F$4:$F$5010)) -> 86009.11 | O20: =SUM(C20:N20) -> 635855.02 | P20: =IF($O$137=0,0,O20/$O$137) -> 0.37176501
A21: 2.1.1.2 | B21: Adicional Noturno | C21: =SUMPRODUCT((Diário!$E$4:$E$5010='Analítico Cx.'!$B21)*(Diário!$B$4:$B$5010>=C$4)*(Diário!$B$4:$B$5010<=EOMONTH(C$4,0))*(Diário!$F$4:$F$5010)) -> 0 | D21: =SUMPRODUCT((Diário!$E$4:$E$5010='Analítico Cx.'!$B21)*(Diário!$B$4:$B$5010>=D$4)*(Diário!$B$4:$B$5010<=EOMONTH(D$4,0))*(Diário!$F$4:$F$5010)) -> 0 | E21: =SUMPRODUCT((Diário!$E$4:$E$5010='Analítico Cx.'!$B21)*(Diário!$B$4:$B$5010>=E$4)*(Diário!$B$4:$B$5010<=EOMONTH(E$4,0))*(Diário!$F$4:$F$5010)) -> 0 | F21: =SUMPRODUCT((Diário!$E$4:$E$5010='Analítico Cx.'!$B21)*(Diário!$B$4:$B$5010>=F$4)*(Diário!$B$4:$B$5010<=EOMONTH(F$4,0))*(Diário!$F$4:$F$5010)) -> 0 | G21: =SUMPRODUCT((Diário!$E$4:$E$5010='Analítico Cx.'!$B21)*(Diário!$B$4:$B$5010>=G$4)*(Diário!$B$4:$B$5010<=EOMONTH(G$4,0))*(Diário!$F$4:$F$5010)) -> 0 | H21: =SUMPRODUCT((Diário!$E$4:$E$5010='Analítico Cx.'!$B21)*(Diário!$B$4:$B$5010>=H$4)*(Diário!$B$4:$B$5010<=EOMONTH(H$4,0))*(Diário!$F$4:$F$5010)) -> 0 | I21: =SUMPRODUCT((Diário!$E$4:$E$5010='Analítico Cx.'!$B21)*(Diário!$B$4:$B$5010>=I$4)*(Diário!$B$4:$B$5010<=EOMONTH(I$4,0))*(Diário!$F$4:$F$5010)) -> 0 | J21: =SUMPRODUCT((Diário!$E$4:$E$5010='Analítico Cx.'!$B21)*(Diário!$B$4:$B$5010>=J$4)*(Diário!$B$4:$B$5010<=EOMONTH(J$4,0))*(Diário!$F$4:$F$5010)) -> 0 | ... N21: =SUMPRODUCT((Diário!$E$4:$E$5010='Analítico Cx.'!$B21)*(Diário!$B$4:$B$5010>=N$4)*(Diário!$B$4:$B$5010<=EOMONTH(N$4,0))*(Diário!$F$4:$F$5010)) -> 0 | O21: =SUM(C21:N21) -> 0 | P21: =IF($O$137=0,0,O21/$O$137) -> 0
A22: 2.1.1.3 | B22: DSR Adicional Noturno | C22: =SUMPRODUCT((Diário!$E$4:$E$5010='Analítico Cx.'!$B22)*(Diário!$B$4:$B$5010>=C$4)*(Diário!$B$4:$B$5010<=EOMONTH(C$4,0))*(Diário!$F$4:$F$5010)) -> 0 | D22: =SUMPRODUCT((Diário!$E$4:$E$5010='Analítico Cx.'!$B22)*(Diário!$B$4:$B$5010>=D$4)*(Diário!$B$4:$B$5010<=EOMONTH(D$4,0))*(Diário!$F$4:$F$5010)) -> 0 | E22: =SUMPRODUCT((Diário!$E$4:$E$5010='Analítico Cx.'!$B22)*(Diário!$B$4:$B$5010>=E$4)*(Diário!$B$4:$B$5010<=EOMONTH(E$4,0))*(Diário!$F$4:$F$5010)) -> 0 | F22: =SUMPRODUCT((Diário!$E$4:$E$5010='Analítico Cx.'!$B22)*(Diário!$B$4:$B$5010>=F$4)*(Diário!$B$4:$B$5010<=EOMONTH(F$4,0))*(Diário!$F$4:$F$5010)) -> 0 | G22: =SUMPRODUCT((Diário!$E$4:$E$5010='Analítico Cx.'!$B22)*(Diário!$B$4:$B$5010>=G$4)*(Diário!$B$4:$B$5010<=EOMONTH(G$4,0))*(Diário!$F$4:$F$5010)) -> 0 | H22: =SUMPRODUCT((Diário!$E$4:$E$5010='Analítico Cx.'!$B22)*(Diário!$B$4:$B$5010>=H$4)*(Diário!$B$4:$B$5010<=EOMONTH(H$4,0))*(Diário!$F$4:$F$5010)) -> 0 | I22: =SUMPRODUCT((Diário!$E$4:$E$5010='Analítico Cx.'!$B22)*(Diário!$B$4:$B$5010>=I$4)*(Diário!$B$4:$B$5010<=EOMONTH(I$4,0))*(Diário!$F$4:$F$5010)) -> 0 | J22: =SUMPRODUCT((Diário!$E$4:$E$5010='Analítico Cx.'!$B22)*(Diário!$B$4:$B$5010>=J$4)*(Diário!$B$4:$B$5010<=EOMONTH(J$4,0))*(Diário!$F$4:$F$5010)) -> 0 | ... N22: =SUMPRODUCT((Diário!$E$4:$E$5010='Analítico Cx.'!$B22)*(Diário!$B$4:$B$5010>=N$4)*(Diário!$B$4:$B$5010<=EOMONTH(N$4,0))*(Diário!$F$4:$F$5010)) -> 0 | O22: =SUM(C22:N22) -> 0 | P22: =IF($O$137=0,0,O22/$O$137) -> 0
A23: 2.1.1.4 | B23: Horas Extras | C23: =SUMPRODUCT((Diário!$E$4:$E$5010='Analítico Cx.'!$B23)*(Diário!$B$4:$B$5010>=C$4)*(Diário!$B$4:$B$5010<=EOMONTH(C$4,0))*(Diário!$F$4:$F$5010)) -> 0 | D23: =SUMPRODUCT((Diário!$E$4:$E$5010='Analítico Cx.'!$B23)*(Diário!$B$4:$B$5010>=D$4)*(Diário!$B$4:$B$5010<=EOMONTH(D$4,0))*(Diário!$F$4:$F$5010)) -> 0 | E23: =SUMPRODUCT((Diário!$E$4:$E$5010='Analítico Cx.'!$B23)*(Diário!$B$4:$B$5010>=E$4)*(Diário!$B$4:$B$5010<=EOMONTH(E$4,0))*(Diário!$F$4:$F$5010)) -> 0 | F23: =SUMPRODUCT((Diário!$E$4:$E$5010='Analítico Cx.'!$B23)*(Diário!$B$4:$B$5010>=F$4)*(Diário!$B$4:$B$5010<=EOMONTH(F$4,0))*(Diário!$F$4:$F$5010)) -> 0 | G23: =SUMPRODUCT((Diário!$E$4:$E$5010='Analítico Cx.'!$B23)*(Diário!$B$4:$B$5010>=G$4)*(Diário!$B$4:$B$5010<=EOMONTH(G$4,0))*(Diário!$F$4:$F$5010)) -> 0 | H23: =SUMPRODUCT((Diário!$E$4:$E$5010='Analítico Cx.'!$B23)*(Diário!$B$4:$B$5010>=H$4)*(Diário!$B$4:$B$5010<=EOMONTH(H$4,0))*(Diário!$F$4:$F$5010)) -> 0 | I23: =SUMPRODUCT((Diário!$E$4:$E$5010='Analítico Cx.'!$B23)*(Diário!$B$4:$B$5010>=I$4)*(Diário!$B$4:$B$5010<=EOMONTH(I$4,0))*(Diário!$F$4:$F$5010)) -> 0 | J23: =SUMPRODUCT((Diário!$E$4:$E$5010='Analítico Cx.'!$B23)*(Diário!$B$4:$B$5010>=J$4)*(Diário!$B$4:$B$5010<=EOMONTH(J$4,0))*(Diário!$F$4:$F$5010)) -> 0 | ... N23: =SUMPRODUCT((Diário!$E$4:$E$5010='Analítico Cx.'!$B23)*(Diário!$B$4:$B$5010>=N$4)*(Diário!$B$4:$B$5010<=EOMONTH(N$4,0))*(Diário!$F$4:$F$5010)) -> 0 | O23: =SUM(C23:N23) -> 0 | P23: =IF($O$137=0,0,O23/$O$137) -> 0
A24: 2.1.1.5 | B24: DSR Horas Extras | C24: =SUMPRODUCT((Diário!$E$4:$E$5010='Analítico Cx.'!$B24)*(Diário!$B$4:$B$5010>=C$4)*(Diário!$B$4:$B$5010<=EOMONTH(C$4,0))*(Diário!$F$4:$F$5010)) -> 0 | D24: =SUMPRODUCT((Diário!$E$4:$E$5010='Analítico Cx.'!$B24)*(Diário!$B$4:$B$5010>=D$4)*(Diário!$B$4:$B$5010<=EOMONTH(D$4,0))*(Diário!$F$4:$F$5010)) -> 0 | E24: =SUMPRODUCT((Diário!$E$4:$E$5010='Analítico Cx.'!$B24)*(Diário!$B$4:$B$5010>=E$4)*(Diário!$B$4:$B$5010<=EOMONTH(E$4,0))*(Diário!$F$4:$F$5010)) -> 0 | F24: =SUMPRODUCT((Diário!$E$4:$E$5010='Analítico Cx.'!$B24)*(Diário!$B$4:$B$5010>=F$4)*(Diário!$B$4:$B$5010<=EOMONTH(F$4,0))*(Diário!$F$4:$F$5010)) -> 0 | G24: =SUMPRODUCT((Diário!$E$4:$E$5010='Analítico Cx.'!$B24)*(Diário!$B$4:$B$5010>=G$4)*(Diário!$B$4:$B$5010<=EOMONTH(G$4,0))*(Diário!$F$4:$F$5010)) -> 0 | H24: =SUMPRODUCT((Diário!$E$4:$E$5010='Analítico Cx.'!$B24)*(Diário!$B$4:$B$5010>=H$4)*(Diário!$B$4:$B$5010<=EOMONTH(H$4,0))*(Diário!$F$4:$F$5010)) -> 0 | I24: =SUMPRODUCT((Diário!$E$4:$E$5010='Analítico Cx.'!$B24)*(Diário!$B$4:$B$5010>=I$4)*(Diário!$B$4:$B$5010<=EOMONTH(I$4,0))*(Diário!$F$4:$F$5010)) -> 0 | J24: =SUMPRODUCT((Diário!$E$4:$E$5010='Analítico Cx.'!$B24)*(Diário!$B$4:$B$5010>=J$4)*(Diário!$B$4:$B$5010<=EOMONTH(J$4,0))*(Diário!$F$4:$F$5010)) -> 0 | ... N24: =SUMPRODUCT((Diário!$E$4:$E$5010='Analítico Cx.'!$B24)*(Diário!$B$4:$B$5010>=N$4)*(Diário!$B$4:$B$5010<=EOMONTH(N$4,0))*(Diário!$F$4:$F$5010)) -> 0 | O24: =SUM(C24:N24) -> 0 | P24: =IF($O$137=0,0,O24/$O$137) -> 0
A25: 2.1.1.6 | B25: Adicional Periculosidade | C25: =SUMPRODUCT((Diário!$E$4:$E$5010='Analítico Cx.'!$B25)*(Diário!$B$4:$B$5010>=C$4)*(Diário!$B$4:$B$5010<=EOMONTH(C$4,0))*(Diário!$F$4:$F$5010)) -> 0 | D25: =SUMPRODUCT((Diário!$E$4:$E$5010='Analítico Cx.'!$B25)*(Diário!$B$4:$B$5010>=D$4)*(Diário!$B$4:$B$5010<=EOMONTH(D$4,0))*(Diário!$F$4:$F$5010)) -> 0 | E25: =SUMPRODUCT((Diário!$E$4:$E$5010='Analítico Cx.'!$B25)*(Diário!$B$4:$B$5010>=E$4)*(Diário!$B$4:$B$5010<=EOMONTH(E$4,0))*(Diário!$F$4:$F$5010)) -> 0 | F25: =SUMPRODUCT((Diário!$E$4:$E$5010='Analítico Cx.'!$B25)*(Diário!$B$4:$B$5010>=F$4)*(Diário!$B$4:$B$5010<=EOMONTH(F$4,0))*(Diário!$F$4:$F$5010)) -> 0 | G25: =SUMPRODUCT((Diário!$E$4:$E$5010='Analítico Cx.'!$B25)*(Diário!$B$4:$B$5010>=G$4)*(Diário!$B$4:$B$5010<=EOMONTH(G$4,0))*(Diário!$F$4:$F$5010)) -> 0 | H25: =SUMPRODUCT((Diário!$E$4:$E$5010='Analítico Cx.'!$B25)*(Diário!$B$4:$B$5010>=H$4)*(Diário!$B$4:$B$5010<=EOMONTH(H$4,0))*(Diário!$F$4:$F$5010)) -> 0 | I25: =SUMPRODUCT((Diário!$E$4:$E$5010='Analítico Cx.'!$B25)*(Diário!$B$4:$B$5010>=I$4)*(Diário!$B$4:$B$5010<=EOMONTH(I$4,0))*(Diário!$F$4:$F$5010)) -> 0 | J25: =SUMPRODUCT((Diário!$E$4:$E$5010='Analítico Cx.'!$B25)*(Diário!$B$4:$B$5010>=J$4)*(Diário!$B$4:$B$5010<=EOMONTH(J$4,0))*(Diário!$F$4:$F$5010)) -> 0 | ... N25: =SUMPRODUCT((Diário!$E$4:$E$5010='Analítico Cx.'!$B25)*(Diário!$B$4:$B$5010>=N$4)*(Diário!$B$4:$B$5010<=EOMONTH(N$4,0))*(Diário!$F$4:$F$5010)) -> 0 | O25: =SUM(C25:N25) -> 0 | P25: =IF($O$137=0,0,O25/$O$137) -> 0
A26: 2.1.1.7 | B26: Gratificação de função | C26: =SUMPRODUCT((Diário!$E$4:$E$5010='Analítico Cx.'!$B26)*(Diário!$B$4:$B$5010>=C$4)*(Diário!$B$4:$B$5010<=EOMONTH(C$4,0))*(Diário!$F$4:$F$5010)) -> 0 | D26: =SUMPRODUCT((Diário!$E$4:$E$5010='Analítico Cx.'!$B26)*(Diário!$B$4:$B$5010>=D$4)*(Diário!$B$4:$B$5010<=EOMONTH(D$4,0))*(Diário!$F$4:$F$5010)) -> 0 | E26: =SUMPRODUCT((Diário!$E$4:$E$5010='Analítico Cx.'!$B26)*(Diário!$B$4:$B$5010>=E$4)*(Diário!$B$4:$B$5010<=EOMONTH(E$4,0))*(Diário!$F$4:$F$5010)) -> 0 | F26: =SUMPRODUCT((Diário!$E$4:$E$5010='Analítico Cx.'!$B26)*(Diário!$B$4:$B$5010>=F$4)*(Diário!$B$4:$B$5010<=EOMONTH(F$4,0))*(Diário!$F$4:$F$5010)) -> 0 | G26: =SUMPRODUCT((Diário!$E$4:$E$5010='Analítico Cx.'!$B26)*(Diário!$B$4:$B$5010>=G$4)*(Diário!$B$4:$B$5010<=EOMONTH(G$4,0))*(Diário!$F$4:$F$5010)) -> 0 | H26: =SUMPRODUCT((Diário!$E$4:$E$5010='Analítico Cx.'!$B26)*(Diário!$B$4:$B$5010>=H$4)*(Diário!$B$4:$B$5010<=EOMONTH(H$4,0))*(Diário!$F$4:$F$5010)) -> 0 | I26: =SUMPRODUCT((Diário!$E$4:$E$5010='Analítico Cx.'!$B26)*(Diário!$B$4:$B$5010>=I$4)*(Diário!$B$4:$B$5010<=EOMONTH(I$4,0))*(Diário!$F$4:$F$5010)) -> 0 | J26: =SUMPRODUCT((Diário!$E$4:$E$5010='Analítico Cx.'!$B26)*(Diário!$B$4:$B$5010>=J$4)*(Diário!$B$4:$B$5010<=EOMONTH(J$4,0))*(Diário!$F$4:$F$5010)) -> 0 | ... N26: =SUMPRODUCT((Diário!$E$4:$E$5010='Analítico Cx.'!$B26)*(Diário!$B$4:$B$5010>=N$4)*(Diário!$B$4:$B$5010<=EOMONTH(N$4,0))*(Diário!$F$4:$F$5010)) -> 0 | O26: =SUM(C26:N26) -> 0 | P26: =IF($O$137=0,0,O26/$O$137) -> 0
A27: 2.1.1.8 | B27: Outros Gastos com Pessoal | C27: =SUMPRODUCT((Diário!$E$4:$E$5010='Analítico Cx.'!$B27)*(Diário!$B$4:$B$5010>=C$4)*(Diário!$B$4:$B$5010<=EOMONTH(C$4,0))*(Diário!$F$4:$F$5010)) -> 0 | D27: =SUMPRODUCT((Diário!$E$4:$E$5010='Analítico Cx.'!$B27)*(Diário!$B$4:$B$5010>=D$4)*(Diário!$B$4:$B$5010<=EOMONTH(D$4,0))*(Diário!$F$4:$F$5010)) -> 0 | E27: =SUMPRODUCT((Diário!$E$4:$E$5010='Analítico Cx.'!$B27)*(Diário!$B$4:$B$5010>=E$4)*(Diário!$B$4:$B$5010<=EOMONTH(E$4,0))*(Diário!$F$4:$F$5010)) -> 0 | F27: =SUMPRODUCT((Diário!$E$4:$E$5010='Analítico Cx.'!$B27)*(Diário!$B$4:$B$5010>=F$4)*(Diário!$B$4:$B$5010<=EOMONTH(F$4,0))*(Diário!$F$4:$F$5010)) -> 0 | G27: =SUMPRODUCT((Diário!$E$4:$E$5010='Analítico Cx.'!$B27)*(Diário!$B$4:$B$5010>=G$4)*(Diário!$B$4:$B$5010<=EOMONTH(G$4,0))*(Diário!$F$4:$F$5010)) -> 0 | H27: =SUMPRODUCT((Diário!$E$4:$E$5010='Analítico Cx.'!$B27)*(Diário!$B$4:$B$5010>=H$4)*(Diário!$B$4:$B$5010<=EOMONTH(H$4,0))*(Diário!$F$4:$F$5010)) -> 0 | I27: =SUMPRODUCT((Diário!$E$4:$E$5010='Analítico Cx.'!$B27)*(Diário!$B$4:$B$5010>=I$4)*(Diário!$B$4:$B$5010<=EOMONTH(I$4,0))*(Diário!$F$4:$F$5010)) -> 0 | J27: =SUMPRODUCT((Diário!$E$4:$E$5010='Analítico Cx.'!$B27)*(Diário!$B$4:$B$5010>=J$4)*(Diário!$B$4:$B$5010<=EOMONTH(J$4,0))*(Diário!$F$4:$F$5010)) -> 0 | ... N27: =SUMPRODUCT((Diário!$E$4:$E$5010='Analítico Cx.'!$B27)*(Diário!$B$4:$B$5010>=N$4)*(Diário!$B$4:$B$5010<=EOMONTH(N$4,0))*(Diário!$F$4:$F$5010)) -> 0 | O27: =SUM(C27:N27) -> 0 | P27: =IF($O$137=0,0,O27/$O$137) -> 0
B28: Subtotal Salários : | C28: =SUBTOTAL(109,C20:C27) -> 0 | D28: =SUBTOTAL(109,D20:D27) -> 0 | E28: =SUBTOTAL(109,E20:E27) -> 0 | F28: =SUBTOTAL(109,F20:F27) -> 5887.08 | G28: =SUBTOTAL(109,G20:G27) -> 58737.99 | H28: =SUBTOTAL(109,H20:H27) -> 78962.98 | I28: =SUBTOTAL(109,I20:I27) -> 79553.85 | J28: =SUBTOTAL(109,J20:J27) -> 74500.97 | ... O28: =SUBTOTAL(109,O20:O27) -> 635855.02 | P28: =IF($O$137=0,0,O28/$O$137) -> 0.37176501
A29: 2.1.2 | B29: Estagiários
A30: 2.1.2.1 | B30: Bolsa Estágio | C30: =SUMPRODUCT((Diário!$E$4:$E$5010='Analítico Cx.'!$B30)*(Diário!$B$4:$B$5010>=C$4)*(Diário!$B$4:$B$5010<=EOMONTH(C$4,0))*(Diário!$F$4:$F$5010)) -> 0 | D30: =SUMPRODUCT((Diário!$E$4:$E$5010='Analítico Cx.'!$B30)*(Diário!$B$4:$B$5010>=D$4)*(Diário!$B$4:$B$5010<=EOMONTH(D$4,0))*(Diário!$F$4:$F$5010)) -> 0 | E30: =SUMPRODUCT((Diário!$E$4:$E$5010='Analítico Cx.'!$B30)*(Diário!$B$4:$B$5010>=E$4)*(Diário!$B$4:$B$5010<=EOMONTH(E$4,0))*(Diário!$F$4:$F$5010)) -> 0 | F30: =SUMPRODUCT((Diário!$E$4:$E$5010='Analítico Cx.'!$B30)*(Diário!$B$4:$B$5010>=F$4)*(Diário!$B$4:$B$5010<=EOMONTH(F$4,0))*(Diário!$F$4:$F$5010)) -> 0 | G30: =SUMPRODUCT((Diário!$E$4:$E$5010='Analítico Cx.'!$B30)*(Diário!$B$4:$B$5010>=G$4)*(Diário!$B$4:$B$5010<=EOMONTH(G$4,0))*(Diário!$F$4:$F$5010)) -> 0 | H30: =SUMPRODUCT((Diário!$E$4:$E$5010='Analítico Cx.'!$B30)*(Diário!$B$4:$B$5010>=H$4)*(Diário!$B$4:$B$5010<=EOMONTH(H$4,0))*(Diário!$F$4:$F$5010)) -> 0 | I30: =SUMPRODUCT((Diário!$E$4:$E$5010='Analítico Cx.'!$B30)*(Diário!$B$4:$B$5010>=I$4)*(Diário!$B$4:$B$5010<=EOMONTH(I$4,0))*(Diário!$F$4:$F$5010)) -> 0 | J30: =SUMPRODUCT((Diário!$E$4:$E$5010='Analítico Cx.'!$B30)*(Diário!$B$4:$B$5010>=J$4)*(Diário!$B$4:$B$5010<=EOMONTH(J$4,0))*(Diário!$F$4:$F$5010)) -> 0 | ... N30: =SUMPRODUCT((Diário!$E$4:$E$5010='Analítico Cx.'!$B30)*(Diário!$B$4:$B$5010>=N$4)*(Diário!$B$4:$B$5010<=EOMONTH(N$4,0))*(Diário!$F$4:$F$5010)) -> 0 | O30: =SUM(C30:N30) -> 0 | P30: =IF($O$137=0,0,O30/$O$137) -> 0
A31: 2.1.2.2 | B31: Auxílio Transporte | C31: =SUMPRODUCT((Diário!$E$4:$E$5010='Analítico Cx.'!$B31)*(Diário!$B$4:$B$5010>=C$4)*(Diário!$B$4:$B$5010<=EOMONTH(C$4,0))*(Diário!$F$4:$F$5010)) -> 0 | D31: =SUMPRODUCT((Diário!$E$4:$E$5010='Analítico Cx.'!$B31)*(Diário!$B$4:$B$5010>=D$4)*(Diário!$B$4:$B$5010<=EOMONTH(D$4,0))*(Diário!$F$4:$F$5010)) -> 0 | E31: =SUMPRODUCT((Diário!$E$4:$E$5010='Analítico Cx.'!$B31)*(Diário!$B$4:$B$5010>=E$4)*(Diário!$B$4:$B$5010<=EOMONTH(E$4,0))*(Diário!$F$4:$F$5010)) -> 1527.8 | F31: =SUMPRODUCT((Diário!$E$4:$E$5010='Analítico Cx.'!$B31)*(Diário!$B$4:$B$5010>=F$4)*(Diário!$B$4:$B$5010<=EOMONTH(F$4,0))*(Diário!$F$4:$F$5010)) -> 0 | G31: =SUMPRODUCT((Diário!$E$4:$E$5010='Analítico Cx.'!$B31)*(Diário!$B$4:$B$5010>=G$4)*(Diário!$B$4:$B$5010<=EOMONTH(G$4,0))*(Diário!$F$4:$F$5010)) -> 362.25 | H31: =SUMPRODUCT((Diário!$E$4:$E$5010='Analítico Cx.'!$B31)*(Diário!$B$4:$B$5010>=H$4)*(Diário!$B$4:$B$5010<=EOMONTH(H$4,0))*(Diário!$F$4:$F$5010)) -> 379.5 | I31: =SUMPRODUCT((Diário!$E$4:$E$5010='Analítico Cx.'!$B31)*(Diário!$B$4:$B$5010>=I$4)*(Diário!$B$4:$B$5010<=EOMONTH(I$4,0))*(Diário!$F$4:$F$5010)) -> 0 | J31: =SUMPRODUCT((Diário!$E$4:$E$5010='Analítico Cx.'!$B31)*(Diário!$B$4:$B$5010>=J$4)*(Diário!$B$4:$B$5010<=EOMONTH(J$4,0))*(Diário!$F$4:$F$5010)) -> 0 | ... N31: =SUMPRODUCT((Diário!$E$4:$E$5010='Analítico Cx.'!$B31)*(Diário!$B$4:$B$5010>=N$4)*(Diário!$B$4:$B$5010<=EOMONTH(N$4,0))*(Diário!$F$4:$F$5010)) -> 0 | O31: =SUM(C31:N31) -> 2269.55 | P31: =IF($O$137=0,0,O31/$O$137) -> 0.0013269366
B32: Subtotal Estagiários: | C32: =SUBTOTAL(109,C30:C31) -> 0 | D32: =SUBTOTAL(109,D30:D31) -> 0 | E32: =SUBTOTAL(109,E30:E31) -> 1527.8 | F32: =SUBTOTAL(109,F30:F31) -> 0 | G32: =SUBTOTAL(109,G30:G31) -> 362.25 | H32: =SUBTOTAL(109,H30:H31) -> 379.5 | I32: =SUBTOTAL(109,I30:I31) -> 0 | J32: =SUBTOTAL(109,J30:J31) -> 0 | ... O32: =SUBTOTAL(109,O30:O31) -> 2269.55 | P32: =IF($O$137=0,0,O32/$O$137) -> 0.0013269366
A33: 2.1.3 | B33: Encargos
A34: 2.1.3.1 | B34: INSS Patronal | C34: =SUMPRODUCT((Diário!$E$4:$E$5010='Analítico Cx.'!$B34)*(Diário!$B$4:$B$5010>=C$4)*(Diário!$B$4:$B$5010<=EOMONTH(C$4,0))*(Diário!$F$4:$F$5010)) -> 0 | D34: =SUMPRODUCT((Diário!$E$4:$E$5010='Analítico Cx.'!$B34)*(Diário!$B$4:$B$5010>=D$4)*(Diário!$B$4:$B$5010<=EOMONTH(D$4,0))*(Diário!$F$4:$F$5010)) -> 0 | E34: =SUMPRODUCT((Diário!$E$4:$E$5010='Analítico Cx.'!$B34)*(Diário!$B$4:$B$5010>=E$4)*(Diário!$B$4:$B$5010<=EOMONTH(E$4,0))*(Diário!$F$4:$F$5010)) -> 0 | F34: =SUMPRODUCT((Diário!$E$4:$E$5010='Analítico Cx.'!$B34)*(Diário!$B$4:$B$5010>=F$4)*(Diário!$B$4:$B$5010<=EOMONTH(F$4,0))*(Diário!$F$4:$F$5010)) -> 0 | G34: =SUMPRODUCT((Diário!$E$4:$E$5010='Analítico Cx.'!$B34)*(Diário!$B$4:$B$5010>=G$4)*(Diário!$B$4:$B$5010<=EOMONTH(G$4,0))*(Diário!$F$4:$F$5010)) -> 0 | H34: =SUMPRODUCT((Diário!$E$4:$E$5010='Analítico Cx.'!$B34)*(Diário!$B$4:$B$5010>=H$4)*(Diário!$B$4:$B$5010<=EOMONTH(H$4,0))*(Diário!$F$4:$F$5010)) -> 0 | I34: =SUMPRODUCT((Diário!$E$4:$E$5010='Analítico Cx.'!$B34)*(Diário!$B$4:$B$5010>=I$4)*(Diário!$B$4:$B$5010<=EOMONTH(I$4,0))*(Diário!$F$4:$F$5010)) -> 0 | J34: =SUMPRODUCT((Diário!$E$4:$E$5010='Analítico Cx.'!$B34)*(Diário!$B$4:$B$5010>=J$4)*(Diário!$B$4:$B$5010<=EOMONTH(J$4,0))*(Diário!$F$4:$F$5010)) -> 0 | ... N34: =SUMPRODUCT((Diário!$E$4:$E$5010='Analítico Cx.'!$B34)*(Diário!$B$4:$B$5010>=N$4)*(Diário!$B$4:$B$5010<=EOMONTH(N$4,0))*(Diário!$F$4:$F$5010)) -> 0 | O34: =SUM(C34:N34) -> 0 | P34: =IF($O$137=0,0,O34/$O$137) -> 0
A35: 2.1.3.2 | B35: PIS | C35: =SUMPRODUCT((Diário!$E$4:$E$5010='Analítico Cx.'!$B35)*(Diário!$B$4:$B$5010>=C$4)*(Diário!$B$4:$B$5010<=EOMONTH(C$4,0))*(Diário!$F$4:$F$5010)) -> 0 | D35: =SUMPRODUCT((Diário!$E$4:$E$5010='Analítico Cx.'!$B35)*(Diário!$B$4:$B$5010>=D$4)*(Diário!$B$4:$B$5010<=EOMONTH(D$4,0))*(Diário!$F$4:$F$5010)) -> 0 | E35: =SUMPRODUCT((Diário!$E$4:$E$5010='Analítico Cx.'!$B35)*(Diário!$B$4:$B$5010>=E$4)*(Diário!$B$4:$B$5010<=EOMONTH(E$4,0))*(Diário!$F$4:$F$5010)) -> 0 | F35: =SUMPRODUCT((Diário!$E$4:$E$5010='Analítico Cx.'!$B35)*(Diário!$B$4:$B$5010>=F$4)*(Diário!$B$4:$B$5010<=EOMONTH(F$4,0))*(Diário!$F$4:$F$5010)) -> 0 | G35: =SUMPRODUCT((Diário!$E$4:$E$5010='Analítico Cx.'!$B35)*(Diário!$B$4:$B$5010>=G$4)*(Diário!$B$4:$B$5010<=EOMONTH(G$4,0))*(Diário!$F$4:$F$5010)) -> 0 | H35: =SUMPRODUCT((Diário!$E$4:$E$5010='Analítico Cx.'!$B35)*(Diário!$B$4:$B$5010>=H$4)*(Diário!$B$4:$B$5010<=EOMONTH(H$4,0))*(Diário!$F$4:$F$5010)) -> 0 | I35: =SUMPRODUCT((Diário!$E$4:$E$5010='Analítico Cx.'!$B35)*(Diário!$B$4:$B$5010>=I$4)*(Diário!$B$4:$B$5010<=EOMONTH(I$4,0))*(Diário!$F$4:$F$5010)) -> 0 | J35: =SUMPRODUCT((Diário!$E$4:$E$5010='Analítico Cx.'!$B35)*(Diário!$B$4:$B$5010>=J$4)*(Diário!$B$4:$B$5010<=EOMONTH(J$4,0))*(Diário!$F$4:$F$5010)) -> 0 | ... N35: =SUMPRODUCT((Diário!$E$4:$E$5010='Analítico Cx.'!$B35)*(Diário!$B$4:$B$5010>=N$4)*(Diário!$B$4:$B$5010<=EOMONTH(N$4,0))*(Diário!$F$4:$F$5010)) -> 0 | O35: =SUM(C35:N35) -> 0 | P35: =IF($O$137=0,0,O35/$O$137) -> 0
A36: 2.1.3.3 | B36: FGTS | C36: =SUMPRODUCT((Diário!$E$4:$E$5010='Analítico Cx.'!$B36)*(Diário!$B$4:$B$5010>=C$4)*(Diário!$B$4:$B$5010<=EOMONTH(C$4,0))*(Diário!$F$4:$F$5010)) -> 0 | D36: =SUMPRODUCT((Diário!$E$4:$E$5010='Analítico Cx.'!$B36)*(Diário!$B$4:$B$5010>=D$4)*(Diário!$B$4:$B$5010<=EOMONTH(D$4,0))*(Diário!$F$4:$F$5010)) -> 0 | E36: =SUMPRODUCT((Diário!$E$4:$E$5010='Analítico Cx.'!$B36)*(Diário!$B$4:$B$5010>=E$4)*(Diário!$B$4:$B$5010<=EOMONTH(E$4,0))*(Diário!$F$4:$F$5010)) -> 0 | F36: =SUMPRODUCT((Diário!$E$4:$E$5010='Analítico Cx.'!$B36)*(Diário!$B$4:$B$5010>=F$4)*(Diário!$B$4:$B$5010<=EOMONTH(F$4,0))*(Diário!$F$4:$F$5010)) -> 426.65 | G36: =SUMPRODUCT((Diário!$E$4:$E$5010='Analítico Cx.'!$B36)*(Diário!$B$4:$B$5010>=G$4)*(Diário!$B$4:$B$5010<=EOMONTH(G$4,0))*(Diário!$F$4:$F$5010)) -> 4954.36 | H36: =SUMPRODUCT((Diário!$E$4:$E$5010='Analítico Cx.'!$B36)*(Diário!$B$4:$B$5010>=H$4)*(Diário!$B$4:$B$5010<=EOMONTH(H$4,0))*(Diário!$F$4:$F$5010)) -> 6381.97 | I36: =SUMPRODUCT((Diário!$E$4:$E$5010='Analítico Cx.'!$B36)*(Diário!$B$4:$B$5010>=I$4)*(Diário!$B$4:$B$5010<=EOMONTH(I$4,0))*(Diário!$F$4:$F$5010)) -> 6579.51 | J36: =SUMPRODUCT((Diário!$E$4:$E$5010='Analítico Cx.'!$B36)*(Diário!$B$4:$B$5010>=J$4)*(Diário!$B$4:$B$5010<=EOMONTH(J$4,0))*(Diário!$F$4:$F$5010)) -> 6074.48 | ... N36: =SUMPRODUCT((Diário!$E$4:$E$5010='Analítico Cx.'!$B36)*(Diário!$B$4:$B$5010>=N$4)*(Diário!$B$4:$B$5010<=EOMONTH(N$4,0))*(Diário!$F$4:$F$5010)) -> 6542.96 | O36: =SUM(C36:N36) -> 51601.01 | P36: =IF($O$137=0,0,O36/$O$137) -> 0.030169535
A37: 2.1.3.4 | B37: FGTS Multa Rescisória | C37: =SUMPRODUCT((Diário!$E$4:$E$5010='Analítico Cx.'!$B37)*(Diário!$B$4:$B$5010>=C$4)*(Diário!$B$4:$B$5010<=EOMONTH(C$4,0))*(Diário!$F$4:$F$5010)) -> 0 | D37: =SUMPRODUCT((Diário!$E$4:$E$5010='Analítico Cx.'!$B37)*(Diário!$B$4:$B$5010>=D$4)*(Diário!$B$4:$B$5010<=EOMONTH(D$4,0))*(Diário!$F$4:$F$5010)) -> 0 | E37: =SUMPRODUCT((Diário!$E$4:$E$5010='Analítico Cx.'!$B37)*(Diário!$B$4:$B$5010>=E$4)*(Diário!$B$4:$B$5010<=EOMONTH(E$4,0))*(Diário!$F$4:$F$5010)) -> 0 | F37: =SUMPRODUCT((Diário!$E$4:$E$5010='Analítico Cx.'!$B37)*(Diário!$B$4:$B$5010>=F$4)*(Diário!$B$4:$B$5010<=EOMONTH(F$4,0))*(Diário!$F$4:$F$5010)) -> 0 | G37: =SUMPRODUCT((Diário!$E$4:$E$5010='Analítico Cx.'!$B37)*(Diário!$B$4:$B$5010>=G$4)*(Diário!$B$4:$B$5010<=EOMONTH(G$4,0))*(Diário!$F$4:$F$5010)) -> 0 | H37: =SUMPRODUCT((Diário!$E$4:$E$5010='Analítico Cx.'!$B37)*(Diário!$B$4:$B$5010>=H$4)*(Diário!$B$4:$B$5010<=EOMONTH(H$4,0))*(Diário!$F$4:$F$5010)) -> 0 | I37: =SUMPRODUCT((Diário!$E$4:$E$5010='Analítico Cx.'!$B37)*(Diário!$B$4:$B$5010>=I$4)*(Diário!$B$4:$B$5010<=EOMONTH(I$4,0))*(Diário!$F$4:$F$5010)) -> 1683.18 | J37: =SUMPRODUCT((Diário!$E$4:$E$5010='Analítico Cx.'!$B37)*(Diário!$B$4:$B$5010>=J$4)*(Diário!$B$4:$B$5010<=EOMONTH(J$4,0))*(Diário!$F$4:$F$5010)) -> 0 | ... N37: =SUMPRODUCT((Diário!$E$4:$E$5010='Analítico Cx.'!$B37)*(Diário!$B$4:$B$5010>=N$4)*(Diário!$B$4:$B$5010<=EOMONTH(N$4,0))*(Diário!$F$4:$F$5010)) -> 1733.39 | O37: =SUM(C37:N37) -> 5253.98 | P37: =IF($O$137=0,0,O37/$O$137) -> 0.0030718417
A38: 2.1.3.5 | B38: 13º Salário | C38: =SUMPRODUCT((Diário!$E$4:$E$5010='Analítico Cx.'!$B38)*(Diário!$B$4:$B$5010>=C$4)*(Diário!$B$4:$B$5010<=EOMONTH(C$4,0))*(Diário!$F$4:$F$5010)) -> 0 | D38: =SUMPRODUCT((Diário!$E$4:$E$5010='Analítico Cx.'!$B38)*(Diário!$B$4:$B$5010>=D$4)*(Diário!$B$4:$B$5010<=EOMONTH(D$4,0))*(Diário!$F$4:$F$5010)) -> 0 | E38: =SUMPRODUCT((Diário!$E$4:$E$5010='Analítico Cx.'!$B38)*(Diário!$B$4:$B$5010>=E$4)*(Diário!$B$4:$B$5010<=EOMONTH(E$4,0))*(Diário!$F$4:$F$5010)) -> 0 | F38: =SUMPRODUCT((Diário!$E$4:$E$5010='Analítico Cx.'!$B38)*(Diário!$B$4:$B$5010>=F$4)*(Diário!$B$4:$B$5010<=EOMONTH(F$4,0))*(Diário!$F$4:$F$5010)) -> 0 | G38: =SUMPRODUCT((Diário!$E$4:$E$5010='Analítico Cx.'!$B38)*(Diário!$B$4:$B$5010>=G$4)*(Diário!$B$4:$B$5010<=EOMONTH(G$4,0))*(Diário!$F$4:$F$5010)) -> 0 | H38: =SUMPRODUCT((Diário!$E$4:$E$5010='Analítico Cx.'!$B38)*(Diário!$B$4:$B$5010>=H$4)*(Diário!$B$4:$B$5010<=EOMONTH(H$4,0))*(Diário!$F$4:$F$5010)) -> 0 | I38: =SUMPRODUCT((Diário!$E$4:$E$5010='Analítico Cx.'!$B38)*(Diário!$B$4:$B$5010>=I$4)*(Diário!$B$4:$B$5010<=EOMONTH(I$4,0))*(Diário!$F$4:$F$5010)) -> 0 | J38: =SUMPRODUCT((Diário!$E$4:$E$5010='Analítico Cx.'!$B38)*(Diário!$B$4:$B$5010>=J$4)*(Diário!$B$4:$B$5010<=EOMONTH(J$4,0))*(Diário!$F$4:$F$5010)) -> 0 | ... N38: =SUMPRODUCT((Diário!$E$4:$E$5010='Analítico Cx.'!$B38)*(Diário!$B$4:$B$5010>=N$4)*(Diário!$B$4:$B$5010<=EOMONTH(N$4,0))*(Diário!$F$4:$F$5010)) -> 21963.26 | O38: =SUM(C38:N38) -> 49035.91 | P38: =IF($O$137=0,0,O38/$O$137) -> 0.028669799
A39: 2.1.3.6 | B39: Férias | C39: =SUMPRODUCT((Diário!$E$4:$E$5010='Analítico Cx.'!$B39)*(Diário!$B$4:$B$5010>=C$4)*(Diário!$B$4:$B$5010<=EOMONTH(C$4,0))*(Diário!$F$4:$F$5010)) -> 0 | D39: =SUMPRODUCT((Diário!$E$4:$E$5010='Analítico Cx.'!$B39)*(Diário!$B$4:$B$5010>=D$4)*(Diário!$B$4:$B$5010<=EOMONTH(D$4,0))*(Diário!$F$4:$F$5010)) -> 0 | E39: =SUMPRODUCT((Diário!$E$4:$E$5010='Analítico Cx.'!$B39)*(Diário!$B$4:$B$5010>=E$4)*(Diário!$B$4:$B$5010<=EOMONTH(E$4,0))*(Diário!$F$4:$F$5010)) -> 0 | F39: =SUMPRODUCT((Diário!$E$4:$E$5010='Analítico Cx.'!$B39)*(Diário!$B$4:$B$5010>=F$4)*(Diário!$B$4:$B$5010<=EOMONTH(F$4,0))*(Diário!$F$4:$F$5010)) -> 0 | G39: =SUMPRODUCT((Diário!$E$4:$E$5010='Analítico Cx.'!$B39)*(Diário!$B$4:$B$5010>=G$4)*(Diário!$B$4:$B$5010<=EOMONTH(G$4,0))*(Diário!$F$4:$F$5010)) -> 0 | H39: =SUMPRODUCT((Diário!$E$4:$E$5010='Analítico Cx.'!$B39)*(Diário!$B$4:$B$5010>=H$4)*(Diário!$B$4:$B$5010<=EOMONTH(H$4,0))*(Diário!$F$4:$F$5010)) -> 0 | I39: =SUMPRODUCT((Diário!$E$4:$E$5010='Analítico Cx.'!$B39)*(Diário!$B$4:$B$5010>=I$4)*(Diário!$B$4:$B$5010<=EOMONTH(I$4,0))*(Diário!$F$4:$F$5010)) -> 0 | J39: =SUMPRODUCT((Diário!$E$4:$E$5010='Analítico Cx.'!$B39)*(Diário!$B$4:$B$5010>=J$4)*(Diário!$B$4:$B$5010<=EOMONTH(J$4,0))*(Diário!$F$4:$F$5010)) -> 0 | ... N39: =SUMPRODUCT((Diário!$E$4:$E$5010='Analítico Cx.'!$B39)*(Diário!$B$4:$B$5010>=N$4)*(Diário!$B$4:$B$5010<=EOMONTH(N$4,0))*(Diário!$F$4:$F$5010)) -> 0 | O39: =SUM(C39:N39) -> 0 | P39: =IF($O$137=0,0,O39/$O$137) -> 0
A40: 2.1.3.7 | B40: 1/3 de Férias | C40: =SUMPRODUCT((Diário!$E$4:$E$5010='Analítico Cx.'!$B40)*(Diário!$B$4:$B$5010>=C$4)*(Diário!$B$4:$B$5010<=EOMONTH(C$4,0))*(Diário!$F$4:$F$5010)) -> 0 | D40: =SUMPRODUCT((Diário!$E$4:$E$5010='Analítico Cx.'!$B40)*(Diário!$B$4:$B$5010>=D$4)*(Diário!$B$4:$B$5010<=EOMONTH(D$4,0))*(Diário!$F$4:$F$5010)) -> 0 | E40: =SUMPRODUCT((Diário!$E$4:$E$5010='Analítico Cx.'!$B40)*(Diário!$B$4:$B$5010>=E$4)*(Diário!$B$4:$B$5010<=EOMONTH(E$4,0))*(Diário!$F$4:$F$5010)) -> 0 | F40: =SUMPRODUCT((Diário!$E$4:$E$5010='Analítico Cx.'!$B40)*(Diário!$B$4:$B$5010>=F$4)*(Diário!$B$4:$B$5010<=EOMONTH(F$4,0))*(Diário!$F$4:$F$5010)) -> 0 | G40: =SUMPRODUCT((Diário!$E$4:$E$5010='Analítico Cx.'!$B40)*(Diário!$B$4:$B$5010>=G$4)*(Diário!$B$4:$B$5010<=EOMONTH(G$4,0))*(Diário!$F$4:$F$5010)) -> 0 | H40: =SUMPRODUCT((Diário!$E$4:$E$5010='Analítico Cx.'!$B40)*(Diário!$B$4:$B$5010>=H$4)*(Diário!$B$4:$B$5010<=EOMONTH(H$4,0))*(Diário!$F$4:$F$5010)) -> 0 | I40: =SUMPRODUCT((Diário!$E$4:$E$5010='Analítico Cx.'!$B40)*(Diário!$B$4:$B$5010>=I$4)*(Diário!$B$4:$B$5010<=EOMONTH(I$4,0))*(Diário!$F$4:$F$5010)) -> 0 | J40: =SUMPRODUCT((Diário!$E$4:$E$5010='Analítico Cx.'!$B40)*(Diário!$B$4:$B$5010>=J$4)*(Diário!$B$4:$B$5010<=EOMONTH(J$4,0))*(Diário!$F$4:$F$5010)) -> 0 | ... N40: =SUMPRODUCT((Diário!$E$4:$E$5010='Analítico Cx.'!$B40)*(Diário!$B$4:$B$5010>=N$4)*(Diário!$B$4:$B$5010<=EOMONTH(N$4,0))*(Diário!$F$4:$F$5010)) -> 0 | O40: =SUM(C40:N40) -> 0 | P40: =IF($O$137=0,0,O40/$O$137) -> 0
A41: 2.1.3.8 | B41: Rescisão de Trabalho | C41: =SUMPRODUCT((Diário!$E$4:$E$5010='Analítico Cx.'!$B41)*(Diário!$B$4:$B$5010>=C$4)*(Diário!$B$4:$B$5010<=EOMONTH(C$4,0))*(Diário!$F$4:$F$5010)) -> 0 | D41: =SUMPRODUCT((Diário!$E$4:$E$5010='Analítico Cx.'!$B41)*(Diário!$B$4:$B$5010>=D$4)*(Diário!$B$4:$B$5010<=EOMONTH(D$4,0))*(Diário!$F$4:$F$5010)) -> 0 | E41: =SUMPRODUCT((Diário!$E$4:$E$5010='Analítico Cx.'!$B41)*(Diário!$B$4:$B$5010>=E$4)*(Diário!$B$4:$B$5010<=EOMONTH(E$4,0))*(Diário!$F$4:$F$5010)) -> 0 | F41: =SUMPRODUCT((Diário!$E$4:$E$5010='Analítico Cx.'!$B41)*(Diário!$B$4:$B$5010>=F$4)*(Diário!$B$4:$B$5010<=EOMONTH(F$4,0))*(Diário!$F$4:$F$5010)) -> 136.03 | G41: =SUMPRODUCT((Diário!$E$4:$E$5010='Analítico Cx.'!$B41)*(Diário!$B$4:$B$5010>=G$4)*(Diário!$B$4:$B$5010<=EOMONTH(G$4,0))*(Diário!$F$4:$F$5010)) -> 1596.46 | H41: =SUMPRODUCT((Diário!$E$4:$E$5010='Analítico Cx.'!$B41)*(Diário!$B$4:$B$5010>=H$4)*(Diário!$B$4:$B$5010<=EOMONTH(H$4,0))*(Diário!$F$4:$F$5010)) -> 1040.69 | I41: =SUMPRODUCT((Diário!$E$4:$E$5010='Analítico Cx.'!$B41)*(Diário!$B$4:$B$5010>=I$4)*(Diário!$B$4:$B$5010<=EOMONTH(I$4,0))*(Diário!$F$4:$F$5010)) -> 19654.09 | J41: =SUMPRODUCT((Diário!$E$4:$E$5010='Analítico Cx.'!$B41)*(Diário!$B$4:$B$5010>=J$4)*(Diário!$B$4:$B$5010<=EOMONTH(J$4,0))*(Diário!$F$4:$F$5010)) -> 0 | ... N41: =SUMPRODUCT((Diário!$E$4:$E$5010='Analítico Cx.'!$B41)*(Diário!$B$4:$B$5010>=N$4)*(Diário!$B$4:$B$5010<=EOMONTH(N$4,0))*(Diário!$F$4:$F$5010)) -> 7317 | O41: =SUM(C41:N41) -> 50416.3 | P41: =IF($O$137=0,0,O41/$O$137) -> 0.029476871
A42: 2.1.3.9 | B42: Medicina e Segurança do Trabalho | C42: =SUMPRODUCT((Diário!$E$4:$E$5010='Analítico Cx.'!$B42)*(Diário!$B$4:$B$5010>=C$4)*(Diário!$B$4:$B$5010<=EOMONTH(C$4,0))*(Diário!$F$4:$F$5010)) -> 0 | D42: =SUMPRODUCT((Diário!$E$4:$E$5010='Analítico Cx.'!$B42)*(Diário!$B$4:$B$5010>=D$4)*(Diário!$B$4:$B$5010<=EOMONTH(D$4,0))*(Diário!$F$4:$F$5010)) -> 0 | E42: =SUMPRODUCT((Diário!$E$4:$E$5010='Analítico Cx.'!$B42)*(Diário!$B$4:$B$5010>=E$4)*(Diário!$B$4:$B$5010<=EOMONTH(E$4,0))*(Diário!$F$4:$F$5010)) -> 0 | F42: =SUMPRODUCT((Diário!$E$4:$E$5010='Analítico Cx.'!$B42)*(Diário!$B$4:$B$5010>=F$4)*(Diário!$B$4:$B$5010<=EOMONTH(F$4,0))*(Diário!$F$4:$F$5010)) -> 616.7 | G42: =SUMPRODUCT((Diário!$E$4:$E$5010='Analítico Cx.'!$B42)*(Diário!$B$4:$B$5010>=G$4)*(Diário!$B$4:$B$5010<=EOMONTH(G$4,0))*(Diário!$F$4:$F$5010)) -> 1022.18 | H42: =SUMPRODUCT((Diário!$E$4:$E$5010='Analítico Cx.'!$B42)*(Diário!$B$4:$B$5010>=H$4)*(Diário!$B$4:$B$5010<=EOMONTH(H$4,0))*(Diário!$F$4:$F$5010)) -> 541.81 | I42: =SUMPRODUCT((Diário!$E$4:$E$5010='Analítico Cx.'!$B42)*(Diário!$B$4:$B$5010>=I$4)*(Diário!$B$4:$B$5010<=EOMONTH(I$4,0))*(Diário!$F$4:$F$5010)) -> 320.76 | J42: =SUMPRODUCT((Diário!$E$4:$E$5010='Analítico Cx.'!$B42)*(Diário!$B$4:$B$5010>=J$4)*(Diário!$B$4:$B$5010<=EOMONTH(J$4,0))*(Diário!$F$4:$F$5010)) -> 483.02 | ... N42: =SUMPRODUCT((Diário!$E$4:$E$5010='Analítico Cx.'!$B42)*(Diário!$B$4:$B$5010>=N$4)*(Diário!$B$4:$B$5010<=EOMONTH(N$4,0))*(Diário!$F$4:$F$5010)) -> 491.29 | O42: =SUM(C42:N42) -> 4756.25 | P42: =IF($O$137=0,0,O42/$O$137) -> 0.0027808341
...

Sheet Gasto das Atividades
A1: =Capa!A70 -> Contrato de Gestão nº14.2025 - Secretaria de Estado de Justiça e Segurança Pública - SEJUSP e Instituto Jurídico para Efetivação da Cidadania e Saúde - Avante Social
A2: =Capa!A5 -> 4º Relatório Gerencial Financeiro
A3: Tabela 3 - Demonstrativo dos Gastos das Atividades
A4: Nº | B4: Atividades | C4: Previsto | D4: Realizado | E4: Realizado (/) Previsto
B5: N/A
A6: 1 | B6: Área Meio | C6: 94550 | D6: =IF(B6="",0, SUMPRODUCT((Diário!$I$4:$I$5010='Gasto das Atividades'!B6)*(Diário!$C$4:$C$5010>=Resumo!$C$4)*(Diário!$C$4:$C$5010<=EOMONTH(Resumo!$N$4,0))*(Diário!$F$4:$F$5010))+ SUMPRODUCT(('Comp.'!$G$5:$G$464='Gasto das Atividades'!B6)*('Comp.'!$B$5:$B$464>=Resumo!$C$4)*('Comp.'!$B$5:$B$464<=EOMONTH(Resumo!$N$4,0))*('Comp.'!$E$5:$E$464))) -> 165050.53 | E6: =IF(OR(D6=0,C6=0),"-",D6/C6) -> 1.7456428
A7: 2 | B7: Núcleo Belo Horizonte | C7: 116872.41 | D7: =IF(B7="",0, SUMPRODUCT((Diário!$I$4:$I$5010='Gasto das Atividades'!B7)*(Diário!$C$4:$C$5010>=Resumo!$C$4)*(Diário!$C$4:$C$5010<=EOMONTH(Resumo!$N$4,0))*(Diário!$F$4:$F$5010))+ SUMPRODUCT(('Comp.'!$G$5:$G$464='Gasto das Atividades'!B7)*('Comp.'!$B$5:$B$464>=Resumo!$C$4)*('Comp.'!$B$5:$B$464<=EOMONTH(Resumo!$N$4,0))*('Comp.'!$E$5:$E$464))) -> 413811.28 | E7: =IF(OR(D7=0,C7=0),"-",D7/C7) -> 3.5407097
A8: 3 | B8: Núcleo Juiz de Fora | C8: 114692.41 | D8: =IF(B8="",0, SUMPRODUCT((Diário!$I$4:$I$5010='Gasto das Atividades'!B8)*(Diário!$C$4:$C$5010>=Resumo!$C$4)*(Diário!$C$4:$C$5010<=EOMONTH(Resumo!$N$4,0))*(Diário!$F$4:$F$5010))+ SUMPRODUCT(('Comp.'!$G$5:$G$464='Gasto das Atividades'!B8)*('Comp.'!$B$5:$B$464>=Resumo!$C$4)*('Comp.'!$B$5:$B$464<=EOMONTH(Resumo!$N$4,0))*('Comp.'!$E$5:$E$464))) -> 270101.31 | E8: =IF(OR(D8=0,C8=0),"-",D8/C8) -> 2.355006
A9: 4 | B9: Núcleo Uberlândia | C9: 114692.41 | D9: =IF(B9="",0, SUMPRODUCT((Diário!$I$4:$I$5010='Gasto das Atividades'!B9)*(Diário!$C$4:$C$5010>=Resumo!$C$4)*(Diário!$C$4:$C$5010<=EOMONTH(Resumo!$N$4,0))*(Diário!$F$4:$F$5010))+ SUMPRODUCT(('Comp.'!$G$5:$G$464='Gasto das Atividades'!B9)*('Comp.'!$B$5:$B$464>=Resumo!$C$4)*('Comp.'!$B$5:$B$464<=EOMONTH(Resumo!$N$4,0))*('Comp.'!$E$5:$E$464))) -> 282292.84 | E9: =IF(OR(D9=0,C9=0),"-",D9/C9) -> 2.4613036
A10: 5 | B10: Núcleo Montes Claros | C10: 113602.41 | D10: =IF(B10="",0, SUMPRODUCT((Diário!$I$4:$I$5010='Gasto das Atividades'!B10)*(Diário!$C$4:$C$5010>=Resumo!$C$4)*(Diário!$C$4:$C$5010<=EOMONTH(Resumo!$N$4,0))*(Diário!$F$4:$F$5010))+ SUMPRODUCT(('Comp.'!$G$5:$G$464='Gasto das Atividades'!B10)*('Comp.'!$B$5:$B$464>=Resumo!$C$4)*('Comp.'!$B$5:$B$464<=EOMONTH(Resumo!$N$4,0))*('Comp.'!$E$5:$E$464))) -> 217744.97 | E10: =IF(OR(D10=0,C10=0),"-",D10/C10) -> 1.9167284
A11: 6 | B11: Núcleo Governador Valadares | C11: 22720.48 | D11: =IF(B11="",0, SUMPRODUCT((Diário!$I$4:$I$5010='Gasto das Atividades'!B11)*(Diário!$C$4:$C$5010>=Resumo!$C$4)*(Diário!$C$4:$C$5010<=EOMONTH(Resumo!$N$4,0))*(Diário!$F$4:$F$5010))+ SUMPRODUCT(('Comp.'!$G$5:$G$464='Gasto das Atividades'!B11)*('Comp.'!$B$5:$B$464>=Resumo!$C$4)*('Comp.'!$B$5:$B$464<=EOMONTH(Resumo!$N$4,0))*('Comp.'!$E$5:$E$464))) -> 7901.7 | E11: =IF(OR(D11=0,C11=0),"-",D11/C11) -> 0.34777874
A12: 7 | B12: Área Fim | C12: 65500 | D12: =IF(B12="",0, SUMPRODUCT((Diário!$I$4:$I$5010='Gasto das Atividades'!B12)*(Diário!$C$4:$C$5010>=Resumo!$C$4)*(Diário!$C$4:$C$5010<=EOMONTH(Resumo!$N$4,0))*(Diário!$F$4:$F$5010))+ SUMPRODUCT(('Comp.'!$G$5:$G$464='Gasto das Atividades'!B12)*('Comp.'!$B$5:$B$464>=Resumo!$C$4)*('Comp.'!$B$5:$B$464<=EOMONTH(Resumo!$N$4,0))*('Comp.'!$E$5:$E$464))) -> 6910 | E12: =IF(OR(D12=0,C12=0),"-",D12/C12) -> 0.10549618
A13: 8 | C13: 0 | D13: =IF(B13="",0, SUMPRODUCT((Diário!$I$4:$I$5010='Gasto das Atividades'!B13)*(Diário!$C$4:$C$5010>=Resumo!$C$4)*(Diário!$C$4:$C$5010<=EOMONTH(Resumo!$N$4,0))*(Diário!$F$4:$F$5010))+ SUMPRODUCT(('Comp.'!$G$5:$G$464='Gasto das Atividades'!B13)*('Comp.'!$B$5:$B$464>=Resumo!$C$4)*('Comp.'!$B$5:$B$464<=EOMONTH(Resumo!$N$4,0))*('Comp.'!$E$5:$E$464))) -> 0 | E13: =IF(OR(D13=0,C13=0),"-",D13/C13) -> -
A14: 9 | C14: 0 | D14: =IF(B14="",0, SUMPRODUCT((Diário!$I$4:$I$5010='Gasto das Atividades'!B14)*(Diário!$C$4:$C$5010>=Resumo!$C$4)*(Diário!$C$4:$C$5010<=EOMONTH(Resumo!$N$4,0))*(Diário!$F$4:$F$5010))+ SUMPRODUCT(('Comp.'!$G$5:$G$464='Gasto das Atividades'!B14)*('Comp.'!$B$5:$B$464>=Resumo!$C$4)*('Comp.'!$B$5:$B$464<=EOMONTH(Resumo!$N$4,0))*('Comp.'!$E$5:$E$464))) -> 0 | E14: =IF(OR(D14=0,C14=0),"-",D14/C14) -> -
A15: 10 | C15: 0 | D15: =IF(B15="",0, SUMPRODUCT((Diário!$I$4:$I$5010='Gasto das Atividades'!B15)*(Diário!$C$4:$C$5010>=Resumo!$C$4)*(Diário!$C$4:$C$5010<=EOMONTH(Resumo!$N$4,0))*(Diário!$F$4:$F$5010))+ SUMPRODUCT(('Comp.'!$G$5:$G$464='Gasto das Atividades'!B15)*('Comp.'!$B$5:$B$464>=Resumo!$C$4)*('Comp.'!$B$5:$B$464<=EOMONTH(Resumo!$N$4,0))*('Comp.'!$E$5:$E$464))) -> 0 | E15: =IF(OR(D15=0,C15=0),"-",D15/C15) -> -
